BEGIN:VCALENDAR
VERSION:2.0
PRODID:-//Dallas AA Central Office - ECPv6.15.4//NONSGML v1.0//EN
CALSCALE:GREGORIAN
METHOD:PUBLISH
X-WR-CALNAME:Dallas AA Central Office
X-ORIGINAL-URL:https://www.aadallas.org
X-WR-CALDESC:Events for Dallas AA Central Office
REFRESH-INTERVAL;VALUE=DURATION:PT1H
X-Robots-Tag:noindex
X-PUBLISHED-TTL:PT1H
BEGIN:VTIMEZONE
TZID:America/Chicago
BEGIN:DAYLIGHT
TZOFFSETFROM:-0600
TZOFFSETTO:-0500
TZNAME:CDT
DTSTART:20250309T080000
END:DAYLIGHT
BEGIN:STANDARD
TZOFFSETFROM:-0500
TZOFFSETTO:-0600
TZNAME:CST
DTSTART:20251102T070000
END:STANDARD
BEGIN:DAYLIGHT
TZOFFSETFROM:-0600
TZOFFSETTO:-0500
TZNAME:CDT
DTSTART:20260308T080000
END:DAYLIGHT
BEGIN:STANDARD
TZOFFSETFROM:-0500
TZOFFSETTO:-0600
TZNAME:CST
DTSTART:20261101T070000
END:STANDARD
END:VTIMEZONE
BEGIN:VEVENT
DTSTART;TZID=America/Chicago:20250301T120000
DTEND;TZID=America/Chicago:20250301T130000
DTSTAMP:20260424T101417
CREATED:20250417T160725Z
LAST-MODIFIED:20250417T160725Z
UID:45433-1740830400-1740834000@www.aadallas.org
SUMMARY:Monthly Accessibilities Standing Committee Meeting - NETA 65
DESCRIPTION:All AA members are invited. We appreciate your feedback! \nDay: 1st Saturday/Month   Time: 12:00pm (cst) \nZoom ID: 831-7605-2625 \nPasscode: 205058
URL:https://www.aadallas.org/event/monthly-accessibilities-standing-committee-meeting-neta-65/
LOCATION:TX
END:VEVENT
BEGIN:VEVENT
DTSTART;TZID=America/Chicago:20260610T183000
DTEND;TZID=America/Chicago:20260610T200000
DTSTAMP:20260424T101417
CREATED:20260417T192157Z
LAST-MODIFIED:20260417T192157Z
UID:46402-1781116200-1781121600@www.aadallas.org
SUMMARY:Cornerstone Group Founders Day Celebration
DESCRIPTION:click here to print/download
URL:https://www.aadallas.org/event/cornerstone-group-founders-day-celebration-2/
LOCATION:WIlshire Baptist Church\, 4316 Abrams Rd\, Dallas\, TX\, 75214\, United States
ATTACH;FMTTYPE=image/jpeg:https://www.aadallas.org/wp-content/uploads/2026/04/Founders-Day-2026.jpg
END:VEVENT
BEGIN:VEVENT
DTSTART;VALUE=DATE:20260612
DTEND;VALUE=DATE:20260616
DTSTAMP:20260424T101417
CREATED:20260303T204521Z
LAST-MODIFIED:20260303T204521Z
UID:46311-1781265600-1781524799@www.aadallas.org
SUMMARY:Founders' Day - 91st Anniversary of AA
DESCRIPTION:Register online at www.foundersday.org \nClick Here to Print/download flyer
URL:https://www.aadallas.org/event/founders-day-91st-anniversary-of-aa/
LOCATION:TX
ATTACH;FMTTYPE=image/jpeg:https://www.aadallas.org/wp-content/uploads/2026/03/Founders-Day-2026_0001.jpg
END:VEVENT
BEGIN:VEVENT
DTSTART;TZID=America/Chicago:20260613T140000
DTEND;TZID=America/Chicago:20260613T160000
DTSTAMP:20260424T101417
CREATED:20260417T191512Z
LAST-MODIFIED:20260417T191512Z
UID:46398-1781359200-1781366400@www.aadallas.org
SUMMARY:Weatherford Group Grapevine Writing Workshop
DESCRIPTION:click here to print/download
URL:https://www.aadallas.org/event/weatherford-group-grapevine-writing-workshop/
LOCATION:Weatherford Group\, 502 East Oak St\, Weatherford\, TX\, 76086\, United States
ATTACH;FMTTYPE=image/jpeg:https://www.aadallas.org/wp-content/uploads/2026/04/Weatherford-Group-flyer-scaled.jpg
END:VEVENT
END:VCALENDAR