BEGIN:VCALENDAR
VERSION:2.0
PRODID:-//Dallas AA Central Office - ECPv6.15.4//NONSGML v1.0//EN
CALSCALE:GREGORIAN
METHOD:PUBLISH
X-WR-CALNAME:Dallas AA Central Office
X-ORIGINAL-URL:https://www.aadallas.org
X-WR-CALDESC:Events for Dallas AA Central Office
REFRESH-INTERVAL;VALUE=DURATION:PT1H
X-Robots-Tag:noindex
X-PUBLISHED-TTL:PT1H
BEGIN:VTIMEZONE
TZID:America/Chicago
BEGIN:DAYLIGHT
TZOFFSETFROM:-0600
TZOFFSETTO:-0500
TZNAME:CDT
DTSTART:20250309T080000
END:DAYLIGHT
BEGIN:STANDARD
TZOFFSETFROM:-0500
TZOFFSETTO:-0600
TZNAME:CST
DTSTART:20251102T070000
END:STANDARD
BEGIN:DAYLIGHT
TZOFFSETFROM:-0600
TZOFFSETTO:-0500
TZNAME:CDT
DTSTART:20260308T080000
END:DAYLIGHT
BEGIN:STANDARD
TZOFFSETFROM:-0500
TZOFFSETTO:-0600
TZNAME:CST
DTSTART:20261101T070000
END:STANDARD
END:VTIMEZONE
BEGIN:VEVENT
DTSTART;TZID=America/Chicago:20250301T120000
DTEND;TZID=America/Chicago:20250301T130000
DTSTAMP:20260420T161530
CREATED:20250417T160725Z
LAST-MODIFIED:20250417T160725Z
UID:45433-1740830400-1740834000@www.aadallas.org
SUMMARY:Monthly Accessibilities Standing Committee Meeting - NETA 65
DESCRIPTION:All AA members are invited. We appreciate your feedback! \nDay: 1st Saturday/Month   Time: 12:00pm (cst) \nZoom ID: 831-7605-2625 \nPasscode: 205058
URL:https://www.aadallas.org/event/monthly-accessibilities-standing-committee-meeting-neta-65/
LOCATION:TX
END:VEVENT
BEGIN:VEVENT
DTSTART;TZID=America/Chicago:20260307T120000
DTEND;TZID=America/Chicago:20260307T130000
DTSTAMP:20260420T161530
CREATED:20260213T215931Z
LAST-MODIFIED:20260213T215931Z
UID:46267-1772884800-1772888400@www.aadallas.org
SUMMARY:NETA65 Accessibility Meeting of AA
DESCRIPTION:Click Here to Print/download flyer
URL:https://www.aadallas.org/event/neta65-accessibility-meeting-of-aa/
LOCATION:TX
ATTACH;FMTTYPE=image/jpeg:https://www.aadallas.org/wp-content/uploads/2026/02/Flyer-NETA65-Access-Speaker-Qtr-1-2026-page-001.jpg
END:VEVENT
BEGIN:VEVENT
DTSTART;TZID=America/Chicago:20260307T140000
DTEND;TZID=America/Chicago:20260307T160000
DTSTAMP:20260420T161530
CREATED:20260123T194207Z
LAST-MODIFIED:20260123T194628Z
UID:46224-1772892000-1772899200@www.aadallas.org
SUMMARY:Grapevine Writing Workshop
DESCRIPTION:click here to print/download
URL:https://www.aadallas.org/event/grapevine-writing-workshop-4/
LOCATION:Noon & Nite Group\, 704 Glencrest Ln\, Longview\, TX\, 75601\, United States
ATTACH;FMTTYPE=image/jpeg:https://www.aadallas.org/wp-content/uploads/2026/01/Writing-Workshop-Noon-and-Nite_page-0001.jpg
END:VEVENT
BEGIN:VEVENT
DTSTART;TZID=America/Chicago:20260314T173000
DTEND;TZID=America/Chicago:20260314T203000
DTSTAMP:20260420T161530
CREATED:20260218T163031Z
LAST-MODIFIED:20260218T163031Z
UID:46275-1773509400-1773520200@www.aadallas.org
SUMMARY:CityWide Dallas 12th Anniversary
DESCRIPTION:click here to print/download
URL:https://www.aadallas.org/event/citywide-dallas-12th-anniversary/
LOCATION:Lover’s Lane United Methodist Church\, 9200 Inwood Road\, Dallas\, TX\, 75220\, United States
ATTACH;FMTTYPE=image/jpeg:https://www.aadallas.org/wp-content/uploads/2026/02/CityWide_Dallas_12th_Anniversary_Flyer_page-0001.jpg
END:VEVENT
BEGIN:VEVENT
DTSTART;TZID=America/Chicago:20260315T093000
DTEND;TZID=America/Chicago:20260315T143000
DTSTAMP:20260420T161530
CREATED:20260226T192702Z
LAST-MODIFIED:20260302T163903Z
UID:46291-1773567000-1773585000@www.aadallas.org
SUMMARY:Bruton Terrace 58th Anniversary
DESCRIPTION:Click Here to Print/Download Flyer
URL:https://www.aadallas.org/event/bruton-terrace-58th-anniversary/
LOCATION:Bruton Terrace\, 2414 E Hwy 80 Suite 160\, Mesquite\, TX\, 75149\, United States
ATTACH;FMTTYPE=image/jpeg:https://www.aadallas.org/wp-content/uploads/2026/02/Anniversary-58th-Flyer-1-page-page-001-1.jpg
END:VEVENT
BEGIN:VEVENT
DTSTART;VALUE=DATE:20260320
DTEND;VALUE=DATE:20260324
DTSTAMP:20260420T161530
CREATED:20260303T203227Z
LAST-MODIFIED:20260303T203227Z
UID:46307-1774008000-1774267199@www.aadallas.org
SUMMARY:NETA 65 Spring Assembly
DESCRIPTION:Click Here to Print/download flyer
URL:https://www.aadallas.org/event/neta-65-spring-assembly-2/
LOCATION:hilton Garden Inn Dallas/Duncanville\, 800 North Main St\, Duncanville\, TX\, 75116\, United States
ATTACH;FMTTYPE=image/png:https://www.aadallas.org/wp-content/uploads/2026/03/NETA65_SpringAssembly_2026_Flyer_FINAL-1-scaled.png
END:VEVENT
BEGIN:VEVENT
DTSTART;TZID=America/Chicago:20260321T180000
DTEND;TZID=America/Chicago:20260321T210000
DTSTAMP:20260420T161530
CREATED:20260312T213830Z
LAST-MODIFIED:20260312T213830Z
UID:46327-1774116000-1774126800@www.aadallas.org
SUMMARY:Richardson Group 21st Annual Chili Cook-Off
DESCRIPTION:click here to print/download
URL:https://www.aadallas.org/event/richardson-group-21st-annual-chili-cook-off/
LOCATION:Richardson Group\, 1144 N. Plano Rd. #246\, Richardson\, 75081\, United States
ATTACH;FMTTYPE=image/jpeg:https://www.aadallas.org/wp-content/uploads/2026/03/Chili-CookOff-Flyer_page-0001.jpg
END:VEVENT
BEGIN:VEVENT
DTSTART;TZID=America/Chicago:20260321T190000
DTEND;TZID=America/Chicago:20260321T220000
DTSTAMP:20260420T161530
CREATED:20260220T201700Z
LAST-MODIFIED:20260220T201700Z
UID:46281-1774119600-1774130400@www.aadallas.org
SUMMARY:Duncanville Casino Night
DESCRIPTION:Click Here to Print/download flyer
URL:https://www.aadallas.org/event/duncanville-casino-night/
LOCATION:Duncanville Group\, 223 West Camp Wisdom Rd Suite B\, Duncanville\, TX\, 75116\, United States
ATTACH;FMTTYPE=image/jpeg:https://www.aadallas.org/wp-content/uploads/2026/02/Casino-night-flyer-page-001.jpg
END:VEVENT
BEGIN:VEVENT
DTSTART;TZID=America/Chicago:20260328T133000
DTEND;TZID=America/Chicago:20260328T153000
DTSTAMP:20260420T161530
CREATED:20260316T215146Z
LAST-MODIFIED:20260316T215146Z
UID:46340-1774704600-1774711800@www.aadallas.org
SUMMARY:Duncanville Sponsorship Workshop
DESCRIPTION:click here to print/download
URL:https://www.aadallas.org/event/duncanville-sponsorship-workshop/
LOCATION:Duncanville Group\, 223 West Camp Wisdom Rd Suite B\, Duncanville\, TX\, 75116\, United States
ATTACH;FMTTYPE=image/jpeg:https://www.aadallas.org/wp-content/uploads/2026/03/Distsrict_52_Spon_Workshop_FLYER.FINAL_page-0001.jpg
END:VEVENT
BEGIN:VEVENT
DTSTART;TZID=America/Chicago:20260328T180000
DTEND;TZID=America/Chicago:20260328T200000
DTSTAMP:20260420T161530
CREATED:20260206T161210Z
LAST-MODIFIED:20260206T161210Z
UID:46255-1774720800-1774728000@www.aadallas.org
SUMMARY:Chicago Group's 23rd Anniversary
DESCRIPTION:Click Here to Print/download flyer
URL:https://www.aadallas.org/event/chicago-groups-23rd-anniversary/
LOCATION:Meaders Hall\, 9027 Midway Road\, Dallas\, TX\, 75209\, United States
ATTACH;FMTTYPE=image/jpeg:https://www.aadallas.org/wp-content/uploads/2026/02/Chicago-Group_23rd-Anniversary-Invite_FINAL_LR-page-001.jpg
END:VEVENT
BEGIN:VEVENT
DTSTART;TZID=America/Chicago:20260328T180000
DTEND;TZID=America/Chicago:20260328T203000
DTSTAMP:20260420T161530
CREATED:20260212T191502Z
LAST-MODIFIED:20260212T191502Z
UID:46262-1774720800-1774729800@www.aadallas.org
SUMMARY:Chicago Group 23rd Anniversary
DESCRIPTION:click here to print/download
URL:https://www.aadallas.org/event/chicago-group-23rd-anniversary/
LOCATION:Meaders Hall\, 9027 Midway Road\, Dallas\, TX\, 75209\, United States
ATTACH;FMTTYPE=image/jpeg:https://www.aadallas.org/wp-content/uploads/2026/02/Chicago-Group_23rd-Anniversary-Invite_FINAL_LR_page-0001.jpg
END:VEVENT
BEGIN:VEVENT
DTSTART;TZID=America/Chicago:20260328T190000
DTEND;TZID=America/Chicago:20260328T210000
DTSTAMP:20260420T161530
CREATED:20260120T175102Z
LAST-MODIFIED:20260120T175102Z
UID:46193-1774724400-1774731600@www.aadallas.org
SUMMARY:La Vina Grupo La Esperanza
DESCRIPTION:click here to print/download
URL:https://www.aadallas.org/event/la-vina-grupo-la-esperanza/
LOCATION:730 West Jefferson Boulevard\, 730 West Jefferson Boulevard\, Dallas\, TX\, 75208\, United States
ATTACH;FMTTYPE=image/jpeg:https://www.aadallas.org/wp-content/uploads/2026/01/Taller-Distritos-Hispanos-1_page-0001-scaled.jpg
END:VEVENT
BEGIN:VEVENT
DTSTART;TZID=America/Chicago:20260330T190000
DTEND;TZID=America/Chicago:20260330T200000
DTSTAMP:20260420T161530
CREATED:20260317T154805Z
LAST-MODIFIED:20260317T154805Z
UID:46345-1774897200-1774900800@www.aadallas.org
SUMMARY:Little Elm Group Speaker Meeting - Chicago Phil
DESCRIPTION:
URL:https://www.aadallas.org/event/little-elm-group-speaker-meeting-chicago-phil/
LOCATION:Oak Grove Methodist Church\, 4725 FM 720\, Oak Grove\, TX\, 76227\, United States
ATTACH;FMTTYPE=image/jpeg:https://www.aadallas.org/wp-content/uploads/2026/03/Speaker-Meeting-Flyer-3-2026.jpg
END:VEVENT
END:VCALENDAR