BEGIN:VCALENDAR
VERSION:2.0
PRODID:-//Dallas AA Central Office - ECPv6.15.4//NONSGML v1.0//EN
CALSCALE:GREGORIAN
METHOD:PUBLISH
X-ORIGINAL-URL:https://www.aadallas.org
X-WR-CALDESC:Events for Dallas AA Central Office
REFRESH-INTERVAL;VALUE=DURATION:PT1H
X-Robots-Tag:noindex
X-PUBLISHED-TTL:PT1H
BEGIN:VTIMEZONE
TZID:America/Chicago
BEGIN:DAYLIGHT
TZOFFSETFROM:-0600
TZOFFSETTO:-0500
TZNAME:CDT
DTSTART:20250309T080000
END:DAYLIGHT
BEGIN:STANDARD
TZOFFSETFROM:-0500
TZOFFSETTO:-0600
TZNAME:CST
DTSTART:20251102T070000
END:STANDARD
END:VTIMEZONE
BEGIN:VEVENT
DTSTART;TZID=America/Chicago:20250301T120000
DTEND;TZID=America/Chicago:20250301T130000
DTSTAMP:20260424T221506
CREATED:20250417T160725Z
LAST-MODIFIED:20250417T160725Z
UID:45433-1740830400-1740834000@www.aadallas.org
SUMMARY:Monthly Accessibilities Standing Committee Meeting - NETA 65
DESCRIPTION:All AA members are invited. We appreciate your feedback! \nDay: 1st Saturday/Month   Time: 12:00pm (cst) \nZoom ID: 831-7605-2625 \nPasscode: 205058
URL:https://www.aadallas.org/event/monthly-accessibilities-standing-committee-meeting-neta-65/
LOCATION:TX
END:VEVENT
BEGIN:VEVENT
DTSTART;TZID=America/Chicago:20250809T140000
DTEND;TZID=America/Chicago:20250809T170000
DTSTAMP:20260424T221506
CREATED:20250630T202032Z
LAST-MODIFIED:20250630T202032Z
UID:45619-1754748000-1754758800@www.aadallas.org
SUMMARY:NETA65 Mini Delegate Report Back
DESCRIPTION:click here to print/download \nclick here to join Zoom \nhttps://zoom.us/j/83226090803 \npass: 864275 \n 
URL:https://www.aadallas.org/event/neta65-mini-delegate-report-back/
LOCATION:ODAAT Group Plano\, 2109 West Parker Rd #728\, Plano\, TX\, 75023\, United States
ATTACH;FMTTYPE=image/jpeg:https://www.aadallas.org/wp-content/uploads/2025/06/MDRB-2025-Flyer-scaled.jpg
END:VEVENT
BEGIN:VEVENT
DTSTART;VALUE=DATE:20250815
DTEND;VALUE=DATE:20250819
DTSTAMP:20260424T221506
CREATED:20250210T221700Z
LAST-MODIFIED:20250617T153617Z
UID:45288-1755259200-1755518399@www.aadallas.org
SUMMARY:78th Annual Texas State Convention
DESCRIPTION:2025 -6 TXSTC Flyer – English \n2025-6 TXSTC Flyer – Spanish \n 
URL:https://www.aadallas.org/event/78th-annual-texas-state-convention/
LOCATION:TX
ATTACH;FMTTYPE=image/jpeg:https://www.aadallas.org/wp-content/uploads/2025/02/2025-6-TXSTC-Flyer-English-page-001.jpg
END:VEVENT
BEGIN:VEVENT
DTSTART;TZID=America/Chicago:20250816T113000
DTEND;TZID=America/Chicago:20250816T140000
DTSTAMP:20260424T221506
CREATED:20250717T193805Z
LAST-MODIFIED:20250718T183232Z
UID:45680-1755343800-1755352800@www.aadallas.org
SUMMARY:H&I Treatment Center NETA 65 Workshop
DESCRIPTION:click here to print/download
URL:https://www.aadallas.org/event/hi-treatment-center-neta-65-workshop/
LOCATION:Duncanville Group\, 223 West Camp Wisdom Rd Suite B\, Duncanville\, TX\, 75116\, United States
ATTACH;FMTTYPE=image/jpeg:https://www.aadallas.org/wp-content/uploads/2025/07/HI-workshop-Duncanville_organized_page-0001.jpg
END:VEVENT
BEGIN:VEVENT
DTSTART;TZID=America/Chicago:20250519T193000
DTEND;TZID=America/Chicago:20250519T203000
DTSTAMP:20260424T221506
CREATED:20250430T164928Z
LAST-MODIFIED:20250430T165412Z
UID:45489-1747683000-1747686600@www.aadallas.org
SUMMARY:NETA 65 PI Monthly Meeting
DESCRIPTION:click here to join Zoomhttps://zoom.us/j/85441883616 \npasscode: 329611
URL:https://www.aadallas.org/event/neta-65-pi-monthly-meeting/
LOCATION:TX
END:VEVENT
BEGIN:VEVENT
DTSTART;VALUE=DATE:20250822
DTEND;VALUE=DATE:20250826
DTSTAMP:20260424T221506
CREATED:20250416T171928Z
LAST-MODIFIED:20250416T171928Z
UID:45425-1755864000-1756123199@www.aadallas.org
SUMMARY:North Texas Roundup 2025
DESCRIPTION:click here to print/download
URL:https://www.aadallas.org/event/north-texas-roundup-2025/
LOCATION:Doubletree Hotel\, 4099 Valley View Lane\, Dallas\, Texas\, 75244
ATTACH;FMTTYPE=image/jpeg:https://www.aadallas.org/wp-content/uploads/2025/04/NTR-2025-Flyer-1.jpg
END:VEVENT
BEGIN:VEVENT
DTSTART;TZID=America/Chicago:20250527T180000
DTEND;TZID=America/Chicago:20250527T183000
DTSTAMP:20260424T221506
CREATED:20250417T203333Z
LAST-MODIFIED:20250417T203713Z
UID:45462-1748368800-1748370600@www.aadallas.org
SUMMARY:Technology Sharing Session
DESCRIPTION:click here to print/download \nclick here to join Zoom (pass: TSS2025) \nhttp://zoom.us/j/9147699066
URL:https://www.aadallas.org/event/technology-sharing-session-2/
LOCATION:TX
ATTACH;FMTTYPE=image/jpeg:https://www.aadallas.org/wp-content/uploads/2025/04/technology-session-1.jpg
END:VEVENT
BEGIN:VEVENT
DTSTART;TZID=America/Chicago:20250829T130000
DTEND;TZID=America/Chicago:20250829T190000
DTSTAMP:20260424T221506
CREATED:20250730T162625Z
LAST-MODIFIED:20250730T162625Z
UID:45696-1756472400-1756494000@www.aadallas.org
SUMMARY:Fort Worth Central Office Summer Social
DESCRIPTION:click here to print/download
URL:https://www.aadallas.org/event/fort-worth-central-office-summer-social/
LOCATION:Fort Worth Central Office\, 3001 W. 5th St. Ste 200\, Fort Worth\, TX\, 76107\, United States
ATTACH;FMTTYPE=image/jpeg:https://www.aadallas.org/wp-content/uploads/2025/07/Summer-Social-2025_page-0001.jpg
END:VEVENT
BEGIN:VEVENT
DTSTART;TZID=America/Chicago:20250830T100000
DTEND;TZID=America/Chicago:20250830T113000
DTSTAMP:20260424T221506
CREATED:20250815T162635Z
LAST-MODIFIED:20250815T162635Z
UID:45717-1756548000-1756553400@www.aadallas.org
SUMMARY:Co-ed Speaker Meeting - SiS Mckinney
DESCRIPTION:
URL:https://www.aadallas.org/event/co-ed-speaker-meeting-sis-mckinney-2/
LOCATION:SiS Mckinney\, 1800 W Hunt St\, McKinney\, TX\, 75069\, United States
ATTACH;FMTTYPE=image/png:https://www.aadallas.org/wp-content/uploads/2025/08/IMG_7660.png
END:VEVENT
BEGIN:VEVENT
DTSTART;TZID=America/Chicago:20250830T110000
DTEND;TZID=America/Chicago:20250830T140000
DTSTAMP:20260424T221506
CREATED:20250813T180746Z
LAST-MODIFIED:20250813T180746Z
UID:45710-1756551600-1756562400@www.aadallas.org
SUMMARY:Duncanville Annual Chili Cookoff
DESCRIPTION:click here to print/download
URL:https://www.aadallas.org/event/duncanville-annual-chili-cookoff/
LOCATION:Duncanville Group\, 223 West Camp Wisdom Rd Suite B\, Duncanville\, TX\, 75116\, United States
ATTACH;FMTTYPE=image/jpeg:https://www.aadallas.org/wp-content/uploads/2025/08/CHILI-COOKOFF_page-0001.jpg
END:VEVENT
BEGIN:VEVENT
DTSTART;TZID=America/Chicago:20250830T120000
DTEND;TZID=America/Chicago:20250830T210000
DTSTAMP:20260424T221506
CREATED:20250813T181447Z
LAST-MODIFIED:20250813T181447Z
UID:45714-1756555200-1756587600@www.aadallas.org
SUMMARY:Bruton Terrace Weekend Workshop Party
DESCRIPTION:click here to print/download
URL:https://www.aadallas.org/event/bruton-terrace-weekend-workshop-party/
LOCATION:Bruton Terrace\, 2414 E Hwy 80 Suite 160\, Mesquite\, TX\, 75149\, United States
ATTACH;FMTTYPE=image/jpeg:https://www.aadallas.org/wp-content/uploads/2025/08/Workshop-Flyer-2025-1_page-0001.jpg
END:VEVENT
BEGIN:VEVENT
DTSTART;TZID=America/Chicago:20250830T170000
DTEND;TZID=America/Chicago:20250830T200000
DTSTAMP:20260424T221506
CREATED:20250714T162546Z
LAST-MODIFIED:20250714T162546Z
UID:45664-1756573200-1756584000@www.aadallas.org
SUMMARY:We Are Not Saints - 5th Anniversary
DESCRIPTION:
URL:https://www.aadallas.org/event/we-are-not-saints-5th-anniversary/
LOCATION:Oaklawn United Methodist Church (2nd florr)\, 3014 Oaklawn Ave\, Dallas\, TX\, 75219\, United States
ATTACH;FMTTYPE=image/jpeg:https://www.aadallas.org/wp-content/uploads/2025/07/WANS-5-year-flyer-e1752510277859.jpg
END:VEVENT
END:VCALENDAR