BEGIN:VCALENDAR
VERSION:2.0
PRODID:-//Dallas AA Central Office - ECPv6.15.4//NONSGML v1.0//EN
CALSCALE:GREGORIAN
METHOD:PUBLISH
X-ORIGINAL-URL:https://www.aadallas.org
X-WR-CALDESC:Events for Dallas AA Central Office
REFRESH-INTERVAL;VALUE=DURATION:PT1H
X-Robots-Tag:noindex
X-PUBLISHED-TTL:PT1H
BEGIN:VTIMEZONE
TZID:America/Chicago
BEGIN:DAYLIGHT
TZOFFSETFROM:-0600
TZOFFSETTO:-0500
TZNAME:CDT
DTSTART:20250309T080000
END:DAYLIGHT
BEGIN:STANDARD
TZOFFSETFROM:-0500
TZOFFSETTO:-0600
TZNAME:CST
DTSTART:20251102T070000
END:STANDARD
END:VTIMEZONE
BEGIN:VEVENT
DTSTART;TZID=America/Chicago:20250207T193000
DTEND;TZID=America/Chicago:20250207T210000
DTSTAMP:20260425T060026
CREATED:20250102T221642Z
LAST-MODIFIED:20250102T221642Z
UID:45201-1738956600-1738962000@www.aadallas.org
SUMMARY:Get In The Car Friday Open Speaker and Birthday Night
DESCRIPTION:click here to print/download
URL:https://www.aadallas.org/event/get-in-the-car-friday-open-speaker-and-birthday-night/
LOCATION:Center of Unity Church\, 1650 Hughes Road\, Grapevine\, TX\, 76051\, United States
ATTACH;FMTTYPE=image/jpeg:https://www.aadallas.org/wp-content/uploads/2025/01/gitc_speaker_flyer-1.jpg
END:VEVENT
BEGIN:VEVENT
DTSTART;TZID=America/Chicago:20250208T173000
DTEND;TZID=America/Chicago:20250208T203000
DTSTAMP:20260425T060026
CREATED:20250113T213312Z
LAST-MODIFIED:20250113T213312Z
UID:45231-1739035800-1739046600@www.aadallas.org
SUMMARY:Citywide February 8th 2025
DESCRIPTION:click here to print/download
URL:https://www.aadallas.org/event/citywide-february-8th-2025/
LOCATION:Lover’s Lane United Methodist Church\, 9200 Inwood Road\, Dallas\, TX\, 75220\, United States
ATTACH;FMTTYPE=image/jpeg:https://www.aadallas.org/wp-content/uploads/2025/01/Flyer-9-1.jpg
END:VEVENT
BEGIN:VEVENT
DTSTART;TZID=America/Chicago:20250215T190000
DTEND;TZID=America/Chicago:20250215T210000
DTSTAMP:20260425T060026
CREATED:20250108T193514Z
LAST-MODIFIED:20250108T193514Z
UID:45222-1739646000-1739653200@www.aadallas.org
SUMMARY:Duncanville Sweethearts Dance
DESCRIPTION:click here to print/download
URL:https://www.aadallas.org/event/duncanville-sweethearts-dance/
LOCATION:Duncanville Group\, 223 West Camp Wisdom Rd Suite B\, Duncanville\, TX\, 75116\, United States
ATTACH;FMTTYPE=image/jpeg:https://www.aadallas.org/wp-content/uploads/2025/01/VDay-dance-AA_250105_115331-1.jpg
END:VEVENT
BEGIN:VEVENT
DTSTART;TZID=America/Chicago:20250220T183000
DTEND;TZID=America/Chicago:20250220T200000
DTSTAMP:20260425T060026
CREATED:20250113T211808Z
LAST-MODIFIED:20250113T211808Z
UID:45228-1740076200-1740081600@www.aadallas.org
SUMMARY:Metropolitan Women's Meeting
DESCRIPTION:click here to print/download
URL:https://www.aadallas.org/event/metropolitan-womens-meeting-12/
LOCATION:Cochran Chapel UMC\, 9027 Midway Rd\, Dallas\, TX\, 75209\, United States
ATTACH;FMTTYPE=image/jpeg:https://www.aadallas.org/wp-content/uploads/2025/01/MWM-02.20.25.jpg
END:VEVENT
BEGIN:VEVENT
DTSTART;TZID=America/Chicago:20250222T120000
DTEND;TZID=America/Chicago:20250222T140000
DTSTAMP:20260425T060026
CREATED:20250210T224640Z
LAST-MODIFIED:20250210T224640Z
UID:45292-1740225600-1740232800@www.aadallas.org
SUMMARY:Sponsorship Workshop
DESCRIPTION:Click Here to Print/download flyer
URL:https://www.aadallas.org/event/sponsorship-workshop-3/
LOCATION:Duncanville Group\, 223 West Camp Wisdom Rd Suite B\, Duncanville\, TX\, 75116\, United States
ATTACH;FMTTYPE=image/jpeg:https://www.aadallas.org/wp-content/uploads/2025/02/Sponsorship-Workshop_250202_094408-page-001-e1739227566232.jpg
END:VEVENT
BEGIN:VEVENT
DTSTART;VALUE=DATE:20250222
DTEND;VALUE=DATE:20250224
DTSTAMP:20260425T060026
CREATED:20250214T173033Z
LAST-MODIFIED:20250214T173033Z
UID:45303-1740225600-1740311999@www.aadallas.org
SUMMARY:Waxahachie 66th Founders Day
DESCRIPTION:click here to print/download
URL:https://www.aadallas.org/event/waxahachie-66th-founders-day/
LOCATION:Waxahachie AA\, 301 John Arden\, Waxahachie\, TX\, 75165\, United States
ATTACH;FMTTYPE=image/jpeg:https://www.aadallas.org/wp-content/uploads/2025/02/wax66founder-1-scaled.jpg
END:VEVENT
BEGIN:VEVENT
DTSTART;VALUE=DATE:20250228
DTEND;VALUE=DATE:20250304
DTSTAMP:20260425T060026
CREATED:20250116T171303Z
LAST-MODIFIED:20250116T171303Z
UID:45237-1740744000-1741003199@www.aadallas.org
SUMMARY:33rd Chisholm Trail Convention
DESCRIPTION:click here to print/download
URL:https://www.aadallas.org/event/33rd-chisholm-trail-convention/
LOCATION:Georgetown Community Center\, 445 E. Morrow St.\, Georgetown\, TX\, 78626\, United States
ATTACH;FMTTYPE=image/jpeg:https://www.aadallas.org/wp-content/uploads/2025/01/Schedule-Flyer-33rd-FINAL-1.jpg
END:VEVENT
END:VCALENDAR