BEGIN:VCALENDAR
VERSION:2.0
PRODID:-//Dallas AA Central Office - ECPv6.15.4//NONSGML v1.0//EN
CALSCALE:GREGORIAN
METHOD:PUBLISH
X-ORIGINAL-URL:https://www.aadallas.org
X-WR-CALDESC:Events for Dallas AA Central Office
REFRESH-INTERVAL;VALUE=DURATION:PT1H
X-Robots-Tag:noindex
X-PUBLISHED-TTL:PT1H
BEGIN:VTIMEZONE
TZID:America/Chicago
BEGIN:DAYLIGHT
TZOFFSETFROM:-0600
TZOFFSETTO:-0500
TZNAME:CDT
DTSTART:20230312T080000
END:DAYLIGHT
BEGIN:STANDARD
TZOFFSETFROM:-0500
TZOFFSETTO:-0600
TZNAME:CST
DTSTART:20231105T070000
END:STANDARD
END:VTIMEZONE
BEGIN:VEVENT
DTSTART;TZID=America/Chicago:20230525T180000
DTEND;TZID=America/Chicago:20230525T200000
DTSTAMP:20260420T222609
CREATED:20230508T225759Z
LAST-MODIFIED:20230508T231523Z
UID:38991-1685037600-1685044800@www.aadallas.org
SUMMARY:Potluck and Speaker John C.
DESCRIPTION:
URL:https://www.aadallas.org/event/potluck-and-speaker-john-c/
LOCATION:Lakewood United Methodist Church\, 2443 Abrams Rd\, Dallas\, TX\, 75214\, United States
ATTACH;FMTTYPE=image/jpeg:https://www.aadallas.org/wp-content/uploads/2023/05/Speaker-Potluck-John-C..jpg
END:VEVENT
BEGIN:VEVENT
DTSTART;TZID=America/Chicago:20230525T183000
DTEND;TZID=America/Chicago:20230528T113000
DTSTAMP:20260420T222609
CREATED:20230207T175356Z
LAST-MODIFIED:20230210T165734Z
UID:38780-1685039400-1685273400@www.aadallas.org
SUMMARY:37th Annual Gathering of Eagles
DESCRIPTION:To register online visit:\nhttps://www.dallasgatheringofeagles.org/\nTo register by mail\, print out and fill the form on this flyer:\nClick here to download/print flyer
URL:https://www.aadallas.org/event/37th-annual-gathering-of-eagles/
LOCATION:Renaissance Dallas/Richardson Hotel\, 900 E. Lookout Drive\, Richardson\, TX\, 75082\, United States
ATTACH;FMTTYPE=image/webp:https://www.aadallas.org/wp-content/uploads/2023/02/7d483f_3942c209084f42ccaa224af5372059fc.webp
END:VEVENT
BEGIN:VEVENT
DTSTART;VALUE=DATE:20230526
DTEND;VALUE=DATE:20230531
DTSTAMP:20260420T222609
CREATED:20230517T161408Z
LAST-MODIFIED:20230517T161408Z
UID:39013-1685102400-1685447999@www.aadallas.org
SUMMARY:Big D Roundup 2023
DESCRIPTION:
URL:https://www.aadallas.org/event/big-d-roundup-2023/
LOCATION:Sheraton Dallas Downtown\, 400 Olive St\, Dallas\, TX\, 75201\, United States
ATTACH;FMTTYPE=image/jpeg:https://www.aadallas.org/wp-content/uploads/2023/05/big-d-roundup-scaled.jpg
END:VEVENT
BEGIN:VEVENT
DTSTART;VALUE=DATE:20230603
DTEND;VALUE=DATE:20230605
DTSTAMP:20260420T222609
CREATED:20230413T204635Z
LAST-MODIFIED:20230413T204714Z
UID:38935-1685793600-1685879999@www.aadallas.org
SUMMARY:Grand Prairie Group - 39th Anniversary!
DESCRIPTION:
URL:https://www.aadallas.org/event/grand-prairie-group-39th-anniversary/
LOCATION:Grand Prairie Group\, 921 W. Pioneer Pkwy Suite "0"\, Grand Prairie\, TX\, 75051\, United States
CATEGORIES:Group Anniversary
ATTACH;FMTTYPE=image/jpeg:https://www.aadallas.org/wp-content/uploads/2023/04/Polish_20230410_084353654.jpg
END:VEVENT
BEGIN:VEVENT
DTSTART;TZID=America/Chicago:20230603T180000
DTEND;TZID=America/Chicago:20230603T210000
DTSTAMP:20260420T222609
CREATED:20230508T164400Z
LAST-MODIFIED:20230508T164400Z
UID:38988-1685815200-1685826000@www.aadallas.org
SUMMARY:Bruton Terrace Group - Summer Kick Off!
DESCRIPTION:
URL:https://www.aadallas.org/event/bruton-terrace-group-summer-kick-off/
LOCATION:Bruton Terrace\, 2414 E Hwy 80 Suite 160\, Mesquite\, TX\, 75149\, United States
CATEGORIES:Group Event
ATTACH;FMTTYPE=image/jpeg:https://www.aadallas.org/wp-content/uploads/2023/05/5C9E6A1D-84AA-49C8-A33D-BB8203725F8D.jpg
END:VEVENT
BEGIN:VEVENT
DTSTART;VALUE=DATE:20230608
DTEND;VALUE=DATE:20230902
DTSTAMP:20260420T222609
CREATED:20230329T163555Z
LAST-MODIFIED:20230807T203712Z
UID:38903-1686225600-1693569599@www.aadallas.org
SUMMARY:PLEASE COME LEARN THE 12 TRADITIONS WITH US! THIS SUMMER!
DESCRIPTION:MARK YOUR CALENDAR!\nThursdays • 7 – 8:30pm • June 8 – August 31\, 2023\n\n \n \nPracticing and applying the 12 Traditions is vital to our unity and AA’s survival. Learning about the 12 Traditions is much more fun in a group!  \n \nPlease join us for this 13-week workshop series with speaker lead\, Jimmy D.\, sharing on the 12 Traditions\, including history of the 12 Traditions and the importance of a home group. \n \nPlus share YOUR experience\, strength & hope from your home group and ask questions regarding the 12 Traditions. \n\nADDRESS: \nFellowship Hall @ Cochran Chapel UMC\, 9027 Midway Rd\, Dallas\, TX 75209\n\nMORE INFO:\ntrusted.servant.jl507@gmail.com\n(If you would like access to audio recordings of the event speaker at no charge\, please send an email to this address)\n \nPRINTABLE FLYER:   Traditions_Workshop_Summer2023_FINAL\nBlack & White PRINTABLE FLYER:   Traditions_Workshop_Summer2023_BW
URL:https://www.aadallas.org/event/please-come-learn-the-12-traditions-with-us-this-summer/
LOCATION:Chicago Group\, 9027 Midway Road\, Dallas\, TX\, 75209\, United States
ATTACH;FMTTYPE=image/png:https://www.aadallas.org/wp-content/uploads/2023/03/Traditions_Workshop_Summer2023_2880x1664_REV.png
END:VEVENT
BEGIN:VEVENT
DTSTART;VALUE=DATE:20230609
DTEND;VALUE=DATE:20230613
DTSTAMP:20260420T222609
CREATED:20230210T201247Z
LAST-MODIFIED:20230210T201247Z
UID:38794-1686312000-1686571199@www.aadallas.org
SUMMARY:76th Texas State AA Convention
DESCRIPTION:Click here to download/print flyer
URL:https://www.aadallas.org/event/76th-texas-state-aa-convention/
LOCATION:The Westin San Antonio North\, 9821 Colonnade Boulevard\, San Antonio\, TX\, 78230\, United States
ATTACH;FMTTYPE=image/jpeg:https://www.aadallas.org/wp-content/uploads/2023/02/76th-Annual-Texas-State-AA-Convention-page-001.jpg
END:VEVENT
BEGIN:VEVENT
DTSTART;TZID=America/Chicago:20230609T183000
DTEND;TZID=America/Chicago:20230609T203000
DTSTAMP:20260420T222609
CREATED:20230512T163511Z
LAST-MODIFIED:20230512T163511Z
UID:39005-1686335400-1686342600@www.aadallas.org
SUMMARY:Founder's Day with Cornerstone AA
DESCRIPTION:Click Here to download/view flyer\n 
URL:https://www.aadallas.org/event/founders-day-with-cornerstone-aa-2/
LOCATION:Cornerstone Group\, 4316 Abrams Rd.\, Dallas\, TX\, 75214\, United States
CATEGORIES:Group Event
ATTACH;FMTTYPE=image/jpeg:https://www.aadallas.org/wp-content/uploads/2023/05/CS-founders-day-flyer-2023.revised.jpg
END:VEVENT
BEGIN:VEVENT
DTSTART;TZID=America/Chicago:20230610T173000
DTEND;TZID=America/Chicago:20230610T203000
DTSTAMP:20260420T222609
CREATED:20230605T152330Z
LAST-MODIFIED:20230605T152330Z
UID:39027-1686418200-1686429000@www.aadallas.org
SUMMARY:CityWide Dallas
DESCRIPTION:Please join us for CityWide Dallas\n\nLover’s Lane United Methodist Church (In Asbury Hall near Entrance A)\n\n9200 Inwood Road\n\nDallas\, Texas 75220\n\nPotluck Dinner starts at 5:30 PM – Bring a covered dish\, preferably a side dish.\n\nIn order for CityWide to be self-supporting and provide dinner for everyone\, we need potluck items! Please consider bringing something to share: an entrée\, side dish or dessert.\n\nSpeaker Meeting starts at 7:00 and ends by 8:30 PM\n\nJUNE 10th: Speaker: Sam S: from Preston Group\, Dallas Texas\n\nDownload flyer here to post at your group:\n\nhttps://mcusercontent.com/cba10b2ed232cfdc9a5c20b13/files/79bef4c0-eb51-8573-6b54-4df935c7855d/CWD_flyer_JUNE_2023.01.pdf?utm_source=Citywide&utm_campaign=403511e71c-EMAIL_CAMPAIGN_2018_07_26_01_39_COPY_01&utm_medium=email&utm_term=0_65e9fc449b-403511e71c-243988575\n\n\nFor more info or if your AA Group would like to host one of the monthly CityWide meetings\, please contact us at: citywidedallasaa@gmail.com or (469) 235-4732 for more info.\n\nRSVP for free childcare from 5:30 – 8:30pm. Sign language interpreter is also available via email reservation. Must RSVP at least 3–5 days in advance\, please.\n\nhttps://citywidedallasaa.org/
URL:https://www.aadallas.org/event/citywide-dallas-18/
LOCATION:Lover’s Lane United Methodist Church\, 9200 Inwood Road\, Dallas\, TX\, 75220\, United States
CATEGORIES:other meeting
END:VEVENT
BEGIN:VEVENT
DTSTART;TZID=America/Chicago:20230617T193000
DTEND;TZID=America/Chicago:20230617T210000
DTSTAMP:20260420T222609
CREATED:20230616T154832Z
LAST-MODIFIED:20230616T154832Z
UID:39063-1687030200-1687035600@www.aadallas.org
SUMMARY:Open Mic Night
DESCRIPTION:CLICK HERE to print/download flyer
URL:https://www.aadallas.org/event/open-mic-night/
LOCATION:Clean Air North\, 16541 Addison Rd\, Addison\, TX\, 75001\, United States
ATTACH;FMTTYPE=image/jpeg:https://www.aadallas.org/wp-content/uploads/2023/06/Open-Mic-page-001.jpg
END:VEVENT
BEGIN:VEVENT
DTSTART;TZID=America/Chicago:20230628T180000
DTEND;TZID=America/Chicago:20230628T210000
DTSTAMP:20260420T222609
CREATED:20230612T164225Z
LAST-MODIFIED:20230612T164225Z
UID:39031-1687975200-1687986000@www.aadallas.org
SUMMARY:Sobriety Through Service
DESCRIPTION:Click Here to download/print flyer
URL:https://www.aadallas.org/event/sobriety-through-service/
LOCATION:TX
ATTACH;FMTTYPE=image/jpeg:https://www.aadallas.org/wp-content/uploads/2023/06/Sobriety-Through-Service-Flyer-2023-FINAL.pdf-page-001.jpg
END:VEVENT
BEGIN:VEVENT
DTSTART;TZID=America/Chicago:20230703T183000
DTEND;TZID=America/Chicago:20230703T220000
DTSTAMP:20260420T222609
CREATED:20230616T155230Z
LAST-MODIFIED:20230616T155237Z
UID:39067-1688409000-1688421600@www.aadallas.org
SUMMARY:Weenies and Watermelon
DESCRIPTION:CLICK HERE to view/download flyer
URL:https://www.aadallas.org/event/weenies-and-watermelon/
LOCATION:Clean Air North\, 16541 Addison Rd\, Addison\, TX\, 75001\, United States
CATEGORIES:Group Event
ATTACH;FMTTYPE=image/jpeg:https://www.aadallas.org/wp-content/uploads/2023/06/Weenies-Watermelon-2023-page-001.jpg
END:VEVENT
BEGIN:VEVENT
DTSTART;TZID=America/Chicago:20230704T133000
DTEND;TZID=America/Chicago:20230704T163000
DTSTAMP:20260420T222609
CREATED:20230612T170227Z
LAST-MODIFIED:20230612T170227Z
UID:39039-1688477400-1688488200@www.aadallas.org
SUMMARY:Lewisville Group - July 4th Celebration!
DESCRIPTION:
URL:https://www.aadallas.org/event/lewisville-group-july-4th-celebration/
LOCATION:Lewisville Group\, 1305 S. State Hwy 121 Suite #105\, Lewisville\, TX\, 75067\, United States
CATEGORIES:Group Event
ATTACH;FMTTYPE=image/jpeg:https://www.aadallas.org/wp-content/uploads/2023/06/4th-of-July-firecracker-social-media-template-Made-with-PosterMyWall-2.jpg
END:VEVENT
BEGIN:VEVENT
DTSTART;TZID=America/Chicago:20230708T160000
DTEND;TZID=America/Chicago:20230708T200000
DTSTAMP:20260420T222609
CREATED:20230707T200034Z
LAST-MODIFIED:20230707T200034Z
UID:39138-1688832000-1688846400@www.aadallas.org
SUMMARY:Aquarius Group 46th Anniversary
DESCRIPTION:
URL:https://www.aadallas.org/event/aquarius-group-46th-anniversary/
LOCATION:Aquarius Group\, 13425 Webb Chapel Rd\, Farmer Branch\, TX\, 75234\, United States
CATEGORIES:Group Anniversary
ATTACH;FMTTYPE=image/jpeg:https://www.aadallas.org/wp-content/uploads/2014/06/20230708_46thAquariusAnnvFlyer-page-001.jpg
END:VEVENT
BEGIN:VEVENT
DTSTART;TZID=America/Chicago:20230708T173000
DTEND;TZID=America/Chicago:20230708T203000
DTSTAMP:20260420T222609
CREATED:20230613T155011Z
LAST-MODIFIED:20230613T155011Z
UID:39044-1688837400-1688848200@www.aadallas.org
SUMMARY:CityWide Dallas
DESCRIPTION:Please join us for CityWide Dallas\n\nLover’s Lane United Methodist Church (In Asbury Hall near Entrance A)\n\n9200 Inwood Road\n\nDallas\, Texas 75220\n\nPotluck Dinner starts at 5:30 PM – Bring a covered dish\, preferably a side dish.\n\nIn order for CityWide to be self-supporting and provide dinner for everyone\, we need potluck items! Please consider bringing something to share: an entrée\, side dish or dessert.\n\nSpeaker Meeting starts at 7:00 and ends by 8:30 PM\n\nJULY 2023: Speaker: Wayne H: from The Shivering Denizens Group\, Frisco Texas\n\nDownload flyer here to post at your group:\n\n\n\n\n\n\nhttps://mcusercontent.com/cba10b2ed232cfdc9a5c20b13/files/aee18e22-8d6b-4d6d-3413-9c7cbdd3f33f/CWD_flyer_JULY_2023.pdf?utm_source=Citywide&utm_campaign=c79211ca56-EMAIL_CAMPAIGN_2018_07_26_01_39_COPY_03&utm_medium=email&utm_term=0_65e9fc449b-c79211ca56-243988575\n\n\n\n\n\n\n\n\nFor more info or if your AA Group would like to host one of the monthly CityWide meetings\, please contact us at: citywidedallasaa@gmail.com or (469) 235-4732 for more info.\n\nRSVP for free childcare from 5:30 – 8:30pm. Sign language interpreter is also available via email reservation. Must RSVP at least 3–5 days in advance\, please.\n\nhttps://citywidedallasaa.org
URL:https://www.aadallas.org/event/citywide-dallas-19/
LOCATION:Lover’s Lane United Methodist Church\, 9200 Inwood Road\, Dallas\, TX\, 75220\, United States
CATEGORIES:other meeting
END:VEVENT
BEGIN:VEVENT
DTSTART;TZID=America/Chicago:20230715T140000
DTEND;TZID=America/Chicago:20230715T170000
DTSTAMP:20260420T222609
CREATED:20230614T163117Z
LAST-MODIFIED:20230614T163117Z
UID:39049-1689429600-1689440400@www.aadallas.org
SUMMARY:73rd GSC - Delegate Report Back
DESCRIPTION:
URL:https://www.aadallas.org/event/73rd-gsc-delegate-report-back/
LOCATION:Lewisville Group\, 1305 S. State Hwy 121 Suite #105\, Lewisville\, TX\, 75067\, United States
ATTACH;FMTTYPE=image/jpeg:https://www.aadallas.org/wp-content/uploads/2023/06/Quad-District-Report-Back-Flyer-Copy.jpg
END:VEVENT
BEGIN:VEVENT
DTSTART;TZID=America/Chicago:20230716T133000
DTEND;TZID=America/Chicago:20230716T163000
DTSTAMP:20260420T222609
CREATED:20230620T150917Z
LAST-MODIFIED:20230710T181948Z
UID:39083-1689514200-1689525000@www.aadallas.org
SUMMARY:Write Your Talk
DESCRIPTION:
URL:https://www.aadallas.org/event/write-your-talk/
LOCATION:Clean Air Group\, 10300 N. Central Expressway\, Suite 116\, Dallas\, TX\, 75231\, United States
CATEGORIES:Workshop
ATTACH;FMTTYPE=image/jpeg:https://www.aadallas.org/wp-content/uploads/2023/06/How-to-write-your-talk-final.jpg
END:VEVENT
BEGIN:VEVENT
DTSTART;VALUE=DATE:20230720
DTEND;VALUE=DATE:20230725
DTSTAMP:20260420T222609
CREATED:20230626T210631Z
LAST-MODIFIED:20230626T210631Z
UID:39102-1689854400-1690199999@www.aadallas.org
SUMMARY:South Eastern Regional Conference of Young People in A.A. 2023
DESCRIPTION:
URL:https://www.aadallas.org/event/south-eastern-regional-conference-of-young-people-in-a-a-2023/
LOCATION:Double Tree Hotel\, 4099 Valley View Ln\, Dallas\, TX\, 75244\, United States
ATTACH;FMTTYPE=image/jpeg:https://www.aadallas.org/wp-content/uploads/2023/06/SERCYPAA-Flyer.jpeg
END:VEVENT
BEGIN:VEVENT
DTSTART;TZID=America/Chicago:20230722T143000
DTEND;TZID=America/Chicago:20230722T200000
DTSTAMP:20260420T222609
CREATED:20230414T210629Z
LAST-MODIFIED:20230414T210629Z
UID:38947-1690036200-1690056000@www.aadallas.org
SUMMARY:The Gift of Sobriety 36th Anniversary!
DESCRIPTION:JULY 22\, 2023\n\n1350 W. WALNUT HILL LN. IRVING\, TX 75038\n2:30PM FELLOWSHIP AND REFRESHMENTS\n3:00PM SPEAKER PANEL TOPIC: HISTORY-THE GIFT OF SOBRIETY\n4:30PM AL-ANON SPEAKER\n7:00PM KEYNOTE SPEAKER: JENNIFER HUDDLESTON KELLY
URL:https://www.aadallas.org/event/the-gift-of-sobriety-36th-anniversary/
LOCATION:The Gift of Sobriety Group\, 1320 W Walnut Hill Lane #107\, Irving\, TX\, 75038\, United States
END:VEVENT
BEGIN:VEVENT
DTSTART;VALUE=DATE:20230723
DTEND;VALUE=DATE:20230730
DTSTAMP:20260420T222609
CREATED:20230406T192454Z
LAST-MODIFIED:20230406T192454Z
UID:38922-1690113600-1690631999@www.aadallas.org
SUMMARY:38th Annual Crested Butte Mountain Conference
DESCRIPTION:Click Here to view/download flyer
URL:https://www.aadallas.org/event/38th-annual-crested-butte-mountain-conference/
LOCATION:TX
END:VEVENT
BEGIN:VEVENT
DTSTART;TZID=America/Chicago:20230728T140000
DTEND;TZID=America/Chicago:20230730T113000
DTSTAMP:20260420T222609
CREATED:20230614T203650Z
LAST-MODIFIED:20230614T203650Z
UID:39053-1690552800-1690716600@www.aadallas.org
SUMMARY:83rd "Old Grandad" Arkansas AA Convention
DESCRIPTION:
URL:https://www.aadallas.org/event/83rd-old-grandad-arkansas-aa-convention/
LOCATION:Cheatham Memorial Methodist Church\, 205 S. Houston St.\, Edgewood\, TX\, 75117\, United States
CATEGORIES:Conference
ATTACH;FMTTYPE=image/jpeg:https://www.aadallas.org/wp-content/uploads/2023/06/Arkansas-AA-flyer-page-001.jpg
END:VEVENT
BEGIN:VEVENT
DTSTART;TZID=America/Chicago:20230812T173000
DTEND;TZID=America/Chicago:20230812T203000
DTSTAMP:20260420T222609
CREATED:20230725T192650Z
LAST-MODIFIED:20230725T192650Z
UID:39179-1691861400-1691872200@www.aadallas.org
SUMMARY:CityWide Dallas
DESCRIPTION:Please join us for CityWide Dallas\n\nLover’s Lane United Methodist Church (In Asbury Hall near Entrance A)\n\n9200 Inwood Road\n\nDallas\, Texas 75220\n\nPotluck Dinner starts at 5:30 PM – Bring a covered dish\, preferably a side dish.\n\nIn order for CityWide to be self-supporting and provide dinner for everyone\, we need potluck items! Please consider bringing something to share: an entrée\, side dish or dessert.\n\nSpeaker Meeting starts at 7:00 and ends by 8:30 PM\n\nAugust 2023: Speaker: Marina C: from the Language of the Heart Group\, Colleyville\, Texas\n\nDownload flyer here to post at your group:\n\n\n\n\n\n\n\n\n\nhttps://mcusercontent.com/cba10b2ed232cfdc9a5c20b13/files/c1107aa1-7442-ac31-5e4d-4f6aebf5eb1a/CWD_flyer_AUG_2023_copy.pdf?utm_source=Citywide&utm_campaign=6329e17265-EMAIL_CAMPAIGN_2018_07_26_01_39_COPY_01&utm_medium=email&utm_term=0_65e9fc449b-6329e17265-243988575
URL:https://www.aadallas.org/event/citywide-dallas-20/
LOCATION:Lover’s Lane United Methodist Church\, 9200 Inwood Road\, Dallas\, TX\, 75220\, United States
CATEGORIES:other meeting
END:VEVENT
BEGIN:VEVENT
DTSTART;TZID=America/Chicago:20230818T140000
DTEND;TZID=America/Chicago:20230820T103000
DTSTAMP:20260420T222609
CREATED:20230323T155050Z
LAST-MODIFIED:20230622T204940Z
UID:38889-1692367200-1692527400@www.aadallas.org
SUMMARY:North Texas Roundup 2023
DESCRIPTION:Click Here to Download/View Flyer
URL:https://www.aadallas.org/event/north-texas-roundup-2023/
LOCATION:Double Tree Hotel\, 4099 Valley View Ln\, Dallas\, TX\, 75244\, United States
CATEGORIES:Conference
ATTACH;FMTTYPE=image/jpeg:https://www.aadallas.org/wp-content/uploads/2023/03/NTR_2023-Flyer_proof2-page-001.jpg
END:VEVENT
BEGIN:VEVENT
DTSTART;TZID=America/Chicago:20230819T130000
DTEND;TZID=America/Chicago:20230819T160000
DTSTAMP:20260420T222609
CREATED:20230711T201405Z
LAST-MODIFIED:20230711T201405Z
UID:39153-1692450000-1692460800@www.aadallas.org
SUMMARY:AA Traditions Workshop
DESCRIPTION:
URL:https://www.aadallas.org/event/aa-traditions-workshop/
LOCATION:Center of Unity Church\, 1650 Hughes Road\, Grapevine\, TX\, 76051\, United States
ATTACH;FMTTYPE=image/jpeg:https://www.aadallas.org/wp-content/uploads/2023/07/GITC-Traditions-Workshop-2023-3B-page-001.jpg
END:VEVENT
BEGIN:VEVENT
DTSTART;TZID=America/Chicago:20230820T140000
DTEND;TZID=America/Chicago:20230820T160000
DTSTAMP:20260420T222609
CREATED:20230707T200312Z
LAST-MODIFIED:20230707T200312Z
UID:39142-1692540000-1692547200@www.aadallas.org
SUMMARY:How to Be Friendly With Our Friends
DESCRIPTION:
URL:https://www.aadallas.org/event/how-to-be-friendly-with-our-friends/
LOCATION:The Gift of Sobriety Group\, 1320 W Walnut Hill Lane #107\, Irving\, TX\, 75038\, United States
CATEGORIES:Workshop
ATTACH;FMTTYPE=image/png:https://www.aadallas.org/wp-content/uploads/2023/07/bazaart.png
END:VEVENT
BEGIN:VEVENT
DTSTART;VALUE=DATE:20230825
DTEND;VALUE=DATE:20230829
DTSTAMP:20260420T222609
CREATED:20230317T214340Z
LAST-MODIFIED:20230317T214340Z
UID:38867-1692964800-1693223999@www.aadallas.org
SUMMARY:VII Convención Nacional - Peru 2023
DESCRIPTION:Lima 10 de marzo del 2023 \nAlcohólicos Anónimos Dallas\, Estados Unidos \nEstimados Compañeros: \nA causa de la pandemia generada por el COVID 19\, en el Perú nuestra VII Convención Nacional tuvo que postergarse por dos años. Este 25\, 26 y 27 de agosto nos reuniremos en el mas grande evento AA del país. \nEs por ello que deseamos hacer extensiva nuestra invitación a todos los miembros de AA de su querido país\, esperando de todo corazón\, poder estrechar lazos de hermandad y solidaridad. \nPucallpa es una hermosa ciudad ubicada en la selva peruana\, capital del departamento de Ucayali. Cuenta con hermosos paisajes y costumbres ancestrales\, capaces de conquistar a todos sus visitantes. El clima cálido es refrescado por las aguas de ríos afluentes del gran Amazonas. \nEs una maravilla imperdible. \nLa comunidad de AA del Perú cuenta con más de 200 grupos y 2000 compañeros ansiosos de recibirles en Pucallpa. \nEsperamos de corazón contar con la participación de una nutrida delegación de vuestro país. \nQuedamos a la espera de su pronta respuesta. \nA la presente adjuntamos material informativo de la nuestra convención. No dude en comunicarse con la Oficina de Servicios Generales de Lima – Perú para cualquier información. \nFelices 24 horas. \nAtte \nDaniel Gutarra Pablo \nCustodio General – Territorio Norte \nDelegado Internacional \nCoordinador Comité Internacional de la \nVII Convención Nacional \nPucallpa Perú \nhttps://aajunta.org.pe/\n\n\n\n————————————————————————————————————————————————————- \nVII NATIONAL CONVENTION\nPUCALLPA PERU 2023 \nThe organizing committee of the VII NATIONAL CONVENTION extends a sincere and warm hug\nto you for these 24 hours of sobriety.This year we will celebrate our convention after more than 2 years of postponement due to the\nCOVID 19 pandemic. Our intention is to have the visit of all the AA delegations that we can reach.\nFor which we send you certain information that can serve as a reference:\nThe city of Pucallpa is an hour’s flight from the capital city of Lima. This city does not have an\ninternational airport\, making it necessary to make a first stopover in the capital.\nThe temperature in these areas is high\, eventually accompanied by rain.\nThe city has hotels and lodgings whose conditions meet any requirement. In addition\,\nrestaurants and food outlets abound in the region.\nThe official currency in the region is the Sol\, and it is advisable to have this type of currency for\ncertain expenses.\nRegistration fee includes a souvenir bag along with country AA literature and souvenirs. It is not\nincluded in the cost of this\, the payment for lodging or food during the days of the event.\nThe event will take place on August 25\, 26 and 27 of this year\, in the auditorium of the National\nUniversity of Ucayali. All convention activities will take place in this venue.\nAlthough some members can collaborate with the English translation\, it is suggested to have\nwith a Spanish interpreter.\nThe registration fee is S/120.00\, equivalent to $35.00 or €30.00.\nOn our website you can find information about flights and lodging in the city of Pucallpa. Our\nwebsite is https://aajunta.org.pe/vii-convecion-nacional-2023/\nAs the event approaches we will be providing more information.\nDo not hesitate to contact the AA General Services Office in Peru\, we will be happy to serve\nyou: +51 945 568 656 / +51 971 708 478 / +51 959 886 376 \nDaniel Gutarra Pablo\nCustodian General Southern Territory\nNational Committee Coordinator\nPucallpa Convention 2023 \n  \n 
URL:https://www.aadallas.org/event/vii-convencion-nacional-peru-2023/
LOCATION:TX
CATEGORIES:Conference
ATTACH;FMTTYPE=image/jpeg:https://www.aadallas.org/wp-content/uploads/2023/03/AFICHE-PUCALLPA-23.jpeg
END:VEVENT
BEGIN:VEVENT
DTSTART;TZID=America/Chicago:20230827T110000
DTEND;TZID=America/Chicago:20230827T130000
DTSTAMP:20260420T222609
CREATED:20230824T172720Z
LAST-MODIFIED:20230824T173045Z
UID:39304-1693134000-1693141200@www.aadallas.org
SUMMARY:Town North 69yr Anniversary
DESCRIPTION:
URL:https://www.aadallas.org/event/town-north-69yr-anniversary/
LOCATION:Town North Group\, 12895 Josey Lane #213\, Farmers Branch\, TX\, 75234\, United States
CATEGORIES:Group Anniversary
ATTACH;FMTTYPE=image/jpeg:https://www.aadallas.org/wp-content/uploads/2023/08/Untitled-002.jpg
END:VEVENT
BEGIN:VEVENT
DTSTART;TZID=America/Chicago:20230827T111500
DTEND;TZID=America/Chicago:20230827T143000
DTSTAMP:20260420T222609
CREATED:20230804T191914Z
LAST-MODIFIED:20230804T191914Z
UID:39245-1693134900-1693146600@www.aadallas.org
SUMMARY:GEORGETOWN IS 32!
DESCRIPTION:11:00 am – BBQ (Provided by GT) & Potluck\n12:00 pm – Al Anon Speaker – Bob M\n1:00 pm – Georgetown History – Rod C\n1:15 pm – AA Speaker – John McS \nFellowship – Food – Fun \nBring Your Favorite Side/Dessert \nOpen Meeting
URL:https://www.aadallas.org/event/georgetown-is-32/
LOCATION:Georgetown Group\, 6210 Campbell Road #120\, Dallas\, TX\, 75248\, United States
ATTACH;FMTTYPE=image/png:https://www.aadallas.org/wp-content/uploads/2023/08/image-1.png
END:VEVENT
BEGIN:VEVENT
DTSTART;TZID=America/Chicago:20230827T140000
DTEND;TZID=America/Chicago:20230827T170000
DTSTAMP:20260420T222609
CREATED:20230614T204904Z
LAST-MODIFIED:20230614T204904Z
UID:39057-1693144800-1693155600@www.aadallas.org
SUMMARY:Grape-A-Thon | LaViña-A-Thon
DESCRIPTION:
URL:https://www.aadallas.org/event/grape-a-thon-lavina-a-thon/
LOCATION:Federacion Zacateana\, 4332 E Lancaster Ave #1\, Fort Worth\, TX\, 76103\, United States
ATTACH;FMTTYPE=image/png:https://www.aadallas.org/wp-content/uploads/2023/06/Grape-A-Thon.png
END:VEVENT
BEGIN:VEVENT
DTSTART;TZID=America/Chicago:20230902T180000
DTEND;TZID=America/Chicago:20230902T210000
DTSTAMP:20260420T222609
CREATED:20230817T172052Z
LAST-MODIFIED:20230817T172052Z
UID:39277-1693677600-1693688400@www.aadallas.org
SUMMARY:Labor Day Cookout - Bruton Terrace Group
DESCRIPTION:Click Here to download/print flyer
URL:https://www.aadallas.org/event/labor-day-cookout-bruton-terrace-group/
LOCATION:Bruton Terrace\, 2414 E Hwy 80 Suite 160\, Mesquite\, TX\, 75149\, United States
CATEGORIES:Group Event
ATTACH;FMTTYPE=image/jpeg:https://www.aadallas.org/wp-content/uploads/2023/08/Bruton-Terrace-Labor-Day-Cookout-page-001.jpg
END:VEVENT
END:VCALENDAR