BEGIN:VCALENDAR
VERSION:2.0
PRODID:-//Dallas AA Central Office - ECPv6.15.4//NONSGML v1.0//EN
CALSCALE:GREGORIAN
METHOD:PUBLISH
X-WR-CALNAME:Dallas AA Central Office
X-ORIGINAL-URL:https://www.aadallas.org
X-WR-CALDESC:Events for Dallas AA Central Office
REFRESH-INTERVAL;VALUE=DURATION:PT1H
X-Robots-Tag:noindex
X-PUBLISHED-TTL:PT1H
BEGIN:VTIMEZONE
TZID:America/Chicago
BEGIN:DAYLIGHT
TZOFFSETFROM:-0600
TZOFFSETTO:-0500
TZNAME:CDT
DTSTART:20190310T080000
END:DAYLIGHT
BEGIN:STANDARD
TZOFFSETFROM:-0500
TZOFFSETTO:-0600
TZNAME:CST
DTSTART:20191103T070000
END:STANDARD
BEGIN:DAYLIGHT
TZOFFSETFROM:-0600
TZOFFSETTO:-0500
TZNAME:CDT
DTSTART:20200308T080000
END:DAYLIGHT
BEGIN:STANDARD
TZOFFSETFROM:-0500
TZOFFSETTO:-0600
TZNAME:CST
DTSTART:20201101T070000
END:STANDARD
BEGIN:DAYLIGHT
TZOFFSETFROM:-0600
TZOFFSETTO:-0500
TZNAME:CDT
DTSTART:20210314T080000
END:DAYLIGHT
BEGIN:STANDARD
TZOFFSETFROM:-0500
TZOFFSETTO:-0600
TZNAME:CST
DTSTART:20211107T070000
END:STANDARD
BEGIN:DAYLIGHT
TZOFFSETFROM:-0600
TZOFFSETTO:-0500
TZNAME:CDT
DTSTART:20220313T080000
END:DAYLIGHT
BEGIN:STANDARD
TZOFFSETFROM:-0500
TZOFFSETTO:-0600
TZNAME:CST
DTSTART:20221106T070000
END:STANDARD
BEGIN:DAYLIGHT
TZOFFSETFROM:-0600
TZOFFSETTO:-0500
TZNAME:CDT
DTSTART:20230312T080000
END:DAYLIGHT
BEGIN:STANDARD
TZOFFSETFROM:-0500
TZOFFSETTO:-0600
TZNAME:CST
DTSTART:20231105T070000
END:STANDARD
BEGIN:DAYLIGHT
TZOFFSETFROM:-0600
TZOFFSETTO:-0500
TZNAME:CDT
DTSTART:20240310T080000
END:DAYLIGHT
BEGIN:STANDARD
TZOFFSETFROM:-0500
TZOFFSETTO:-0600
TZNAME:CST
DTSTART:20241103T070000
END:STANDARD
BEGIN:DAYLIGHT
TZOFFSETFROM:-0600
TZOFFSETTO:-0500
TZNAME:CDT
DTSTART:20250309T080000
END:DAYLIGHT
BEGIN:STANDARD
TZOFFSETFROM:-0500
TZOFFSETTO:-0600
TZNAME:CST
DTSTART:20251102T070000
END:STANDARD
END:VTIMEZONE
BEGIN:VTIMEZONE
TZID:America/Chicago
BEGIN:DAYLIGHT
TZOFFSETFROM:-0600
TZOFFSETTO:-0500
TZNAME:CDT
DTSTART:20190310T080000
END:DAYLIGHT
BEGIN:STANDARD
TZOFFSETFROM:-0500
TZOFFSETTO:-0600
TZNAME:CST
DTSTART:20191103T070000
END:STANDARD
END:VTIMEZONE
BEGIN:VEVENT
DTSTART;TZID=America/Chicago:20250629T110000
DTEND;TZID=America/Chicago:20250629T150000
DTSTAMP:20260419T202816
CREATED:20250519T211748Z
LAST-MODIFIED:20250519T211748Z
UID:45528-1751194800-1751209200@www.aadallas.org
SUMMARY:Georgetown Group 34th Anniversary
DESCRIPTION:click here to print/download
URL:https://www.aadallas.org/event/georgetown-group-34th-anniversary/
LOCATION:Georgetown Group\, 6210 Campbell Road #120\, Dallas\, TX\, 75248\, United States
CATEGORIES:Group Anniversary
ATTACH;FMTTYPE=image/jpeg:https://www.aadallas.org/wp-content/uploads/2025/05/Georgetown-Anniversary-062925-1.jpg
END:VEVENT
BEGIN:VEVENT
DTSTART;TZID=America/Chicago:20241102T170000
DTEND;TZID=America/Chicago:20241102T210000
DTSTAMP:20260419T202816
CREATED:20241003T192411Z
LAST-MODIFIED:20241003T192411Z
UID:44903-1730566800-1730581200@www.aadallas.org
SUMMARY:Legacy Group's 23rd Anniversary
DESCRIPTION:click here to print/download
URL:https://www.aadallas.org/event/legacy-groups-23rd-anniversary/
LOCATION:Legacy Group\, 909 W Spring Creek Ste.150\, Plano\, TX\, 75023\, United States
CATEGORIES:Group Anniversary
ATTACH;FMTTYPE=image/webp:https://www.aadallas.org/wp-content/uploads/2024/10/Legacy-Group-23rd-Anniversary-page-001-e1726586531284.webp
END:VEVENT
BEGIN:VEVENT
DTSTART;TZID=America/Chicago:20241020T133000
DTEND;TZID=America/Chicago:20241020T153000
DTSTAMP:20260419T202816
CREATED:20241003T194732Z
LAST-MODIFIED:20241003T194732Z
UID:44926-1729431000-1729438200@www.aadallas.org
SUMMARY:Carrollton Group Anniversary Celebration
DESCRIPTION:click here to print/download
URL:https://www.aadallas.org/event/carrollton-group-anniversary-celebration/
LOCATION:Carrollton Group\, 1039 N Interstate 35E\, Carrollton\, TX\, 75006\, United States
CATEGORIES:Group Anniversary
ATTACH;FMTTYPE=image/webp:https://www.aadallas.org/wp-content/uploads/2024/10/CARROLLTON-GROUP-ANNIVERSARY2024-1-scaled.webp
END:VEVENT
BEGIN:VEVENT
DTSTART;TZID=America/Chicago:20241019T173000
DTEND;TZID=America/Chicago:20241019T200000
DTSTAMP:20260419T202816
CREATED:20241003T195447Z
LAST-MODIFIED:20241003T195447Z
UID:44933-1729359000-1729368000@www.aadallas.org
SUMMARY:Simply AA Group 19th Anniversary Celebration
DESCRIPTION:click here to print/download
URL:https://www.aadallas.org/event/simply-aa-group-19th-anniversary-celebration/
LOCATION:Simply A.A.\, Woodhaven Presbyterian Church 3650 N O'Conner Rd.\, Irving\, TX\, 75062\, United States
CATEGORIES:Group Anniversary
ATTACH;FMTTYPE=image/webp:https://www.aadallas.org/wp-content/uploads/2024/10/19th-anniversary-page-001-1.webp
END:VEVENT
BEGIN:VEVENT
DTSTART;TZID=America/Chicago:20240623T110000
DTEND;TZID=America/Chicago:20240623T150000
DTSTAMP:20260419T202816
CREATED:20240510T212330Z
LAST-MODIFIED:20240510T212330Z
UID:42018-1719140400-1719154800@www.aadallas.org
SUMMARY:Georgetown 33rd Anniversary
DESCRIPTION:CLICK HERE to print/download flyer
URL:https://www.aadallas.org/event/georgetown-33rd-anniversary/
LOCATION:Georgetown Group\, 6210 Campbell Road #120\, Dallas\, TX\, 75248\, United States
CATEGORIES:Group Anniversary
ATTACH;FMTTYPE=image/jpeg:https://www.aadallas.org/wp-content/uploads/2024/05/GTOWN_ANVSRY-FLYER_2024_Rev2-page-001.jpg
END:VEVENT
BEGIN:VEVENT
DTSTART;TZID=America/Chicago:20240425T183000
DTEND;TZID=America/Chicago:20240425T210000
DTSTAMP:20260419T202816
CREATED:20240422T201752Z
LAST-MODIFIED:20240422T201752Z
UID:41952-1714069800-1714078800@www.aadallas.org
SUMMARY:Coppell Group's 30th Anniversary
DESCRIPTION:Click here to print/download flyer
URL:https://www.aadallas.org/event/coppell-groups-30th-anniversary/
LOCATION:TX
CATEGORIES:Group Anniversary
ATTACH;FMTTYPE=image/jpeg:https://www.aadallas.org/wp-content/uploads/2024/04/CoppellGroup30thAnniversary-page-001.jpg
END:VEVENT
BEGIN:VEVENT
DTSTART;TZID=America/Chicago:20240217T090000
DTEND;TZID=America/Chicago:20240217T140000
DTSTAMP:20260419T202816
CREATED:20240213T193303Z
LAST-MODIFIED:20240213T193303Z
UID:39742-1708160400-1708178400@www.aadallas.org
SUMMARY:Bruton Terrace 56th Anniversary
DESCRIPTION:
URL:https://www.aadallas.org/event/bruton-terrace-56th-anniversary/
LOCATION:Bruton Terrace\, 2414 E Hwy 80 Suite 160\, Mesquite\, TX\, 75149\, United States
CATEGORIES:Group Anniversary
ATTACH;FMTTYPE=image/jpeg:https://www.aadallas.org/wp-content/uploads/2024/02/Bruton-56th-Anniversary.jpg
END:VEVENT
BEGIN:VEVENT
DTSTART;TZID=America/Chicago:20240112T170000
DTEND;TZID=America/Chicago:20240114T120000
DTSTAMP:20260419T202816
CREATED:20230726T213444Z
LAST-MODIFIED:20230726T213444Z
UID:39190-1705078800-1705233600@www.aadallas.org
SUMMARY:Tyler AA 77th Anniversary
DESCRIPTION:Click Here to Download/Print Flyer
URL:https://www.aadallas.org/event/tyler-aa-77th-anniversary/
LOCATION:Tyler Rose Garden Center\, 420 Rose Park Dr\, Tyler\, TX\, 75702\, United States
CATEGORIES:Group Anniversary
ATTACH;FMTTYPE=image/jpeg:https://www.aadallas.org/wp-content/uploads/2023/07/Tyler-AA-Anniversary-page-001.jpg
END:VEVENT
BEGIN:VEVENT
DTSTART;TZID=America/Chicago:20231216T173000
DTEND;TZID=America/Chicago:20231216T210000
DTSTAMP:20260419T202816
CREATED:20231206T201217Z
LAST-MODIFIED:20231206T201608Z
UID:39549-1702747800-1702760400@www.aadallas.org
SUMMARY:MCKINNEY FELLOWSHIP 39th ANNIVERSARY
DESCRIPTION:Click here to download printable flyer
URL:https://www.aadallas.org/event/mckinney-fellowship-39th-anniversary/
LOCATION:McKinney Fellowship Group\, 802 E. University Dr.\, McKinney\, TX\, 75069\, United States
CATEGORIES:Group Anniversary
ATTACH;FMTTYPE=image/jpeg:https://www.aadallas.org/wp-content/uploads/2023/12/Mckinney-fellowship-39th-page-001.jpg
END:VEVENT
BEGIN:VEVENT
DTSTART;TZID=America/Chicago:20231125T160000
DTEND;TZID=America/Chicago:20231125T230000
DTSTAMP:20260419T202816
CREATED:20230619T161658Z
LAST-MODIFIED:20230619T161658Z
UID:39076-1700928000-1700953200@www.aadallas.org
SUMMARY:Grupo Unidad 41° Aniversario
DESCRIPTION:
URL:https://www.aadallas.org/event/grupo-unidad-41-aniversario/
LOCATION:TX
CATEGORIES:Group Anniversary
ATTACH;FMTTYPE=image/jpeg:https://www.aadallas.org/wp-content/uploads/2023/06/grupo-unidad-41-scaled.jpg
END:VEVENT
BEGIN:VEVENT
DTSTART;TZID=America/Chicago:20231112T090000
DTEND;TZID=America/Chicago:20231112T120000
DTSTAMP:20260419T202816
CREATED:20231009T222104Z
LAST-MODIFIED:20231009T222104Z
UID:39415-1699779600-1699790400@www.aadallas.org
SUMMARY:Sunday Morning Live 29th Anniversary!
DESCRIPTION:
URL:https://www.aadallas.org/event/sunday-morning-live-29th-anniversary/
LOCATION:Center 12\, 8204 Elmbrook Dr. Ste 196\, Dallas\, TX\, 75247\, United States
CATEGORIES:Group Anniversary
ATTACH;FMTTYPE=image/jpeg:https://www.aadallas.org/wp-content/uploads/2023/10/unnamed-2-scaled-e1696890044763.jpg
END:VEVENT
BEGIN:VEVENT
DTSTART;TZID=America/Chicago:20231104T170000
DTEND;TZID=America/Chicago:20231104T203000
DTSTAMP:20260419T202816
CREATED:20231025T205122Z
LAST-MODIFIED:20231025T205122Z
UID:39447-1699117200-1699129800@www.aadallas.org
SUMMARY:Legacy Group 22nd Anniversary
DESCRIPTION:click here to download/print
URL:https://www.aadallas.org/event/legacy-group-22nd-anniversary/
LOCATION:Legacy Group\, 909 W Spring Creek Ste.150\, Plano\, TX\, 75023\, United States
CATEGORIES:Group Anniversary
ATTACH;FMTTYPE=image/png:https://www.aadallas.org/wp-content/uploads/2023/10/legacyevent.png
END:VEVENT
BEGIN:VEVENT
DTSTART;TZID=America/Chicago:20231021T174500
DTEND;TZID=America/Chicago:20231021T200000
DTSTAMP:20260419T202816
CREATED:20230915T161630Z
LAST-MODIFIED:20230915T161630Z
UID:39348-1697910300-1697918400@www.aadallas.org
SUMMARY:Simply AA's 18th Anniversary!
DESCRIPTION:CLICK HERE to print/download flyer
URL:https://www.aadallas.org/event/simply-aas-18th-anniversary/
LOCATION:Woodhaven Presbyterian Church\, 3650 North O'Connor Rd\, Irving\, TX\, 75062\, United States
CATEGORIES:Group Anniversary
ATTACH;FMTTYPE=image/jpeg:https://www.aadallas.org/wp-content/uploads/2023/09/18th-anniversary-page-001.jpg
END:VEVENT
BEGIN:VEVENT
DTSTART;TZID=America/Chicago:20231008T133000
DTEND;TZID=America/Chicago:20231008T163000
DTSTAMP:20260419T202816
CREATED:20230911T201445Z
LAST-MODIFIED:20230914T155946Z
UID:39334-1696771800-1696782600@www.aadallas.org
SUMMARY:Carrollton Group 42nd Anniversary Celebration!
DESCRIPTION:CLICK HERE to view/download flyer
URL:https://www.aadallas.org/event/carrollton-group-42nd-anniversary-celebration/
LOCATION:Carrollton Group\, 1039 N Interstate 35E\, Carrollton\, TX\, 75006\, United States
CATEGORIES:Group Anniversary
ATTACH;FMTTYPE=image/jpeg:https://www.aadallas.org/wp-content/uploads/2023/09/CARROLLTON-GROUP-ANNIVERSARY2023-page-001.jpg
END:VEVENT
BEGIN:VEVENT
DTSTART;TZID=America/Chicago:20231007T180000
DTEND;TZID=America/Chicago:20231007T203000
DTSTAMP:20260419T202816
CREATED:20230905T220902Z
LAST-MODIFIED:20230905T220902Z
UID:39323-1696701600-1696710600@www.aadallas.org
SUMMARY:Clean Air Group 38th Anniversary!
DESCRIPTION:CLICK HERE to download/print flyer
URL:https://www.aadallas.org/event/clean-air-group-38th-anniversary/
LOCATION:Clean Air Group\, 10300 N. Central Expressway\, Suite 116\, Dallas\, TX\, 75231\, United States
CATEGORIES:Group Anniversary
ATTACH;FMTTYPE=image/jpeg:https://www.aadallas.org/wp-content/uploads/2023/09/CA-Anniversary-Tabloid-FINAL-VERSION-page-001.jpg
END:VEVENT
BEGIN:VEVENT
DTSTART;TZID=America/Chicago:20230922T180000
DTEND;TZID=America/Chicago:20230922T210000
DTSTAMP:20260419T202816
CREATED:20230824T214507Z
LAST-MODIFIED:20230824T214507Z
UID:39311-1695405600-1695416400@www.aadallas.org
SUMMARY:Cornerstone Group's 33rd Anniversary!
DESCRIPTION:
URL:https://www.aadallas.org/event/cornerstone-groups-33rd-anniversary/
LOCATION:WIlshire Baptist Church\, 4316 Abrams Rd\, Dallas\, TX\, 75214\, United States
CATEGORIES:Group Anniversary
ATTACH;FMTTYPE=image/jpeg:https://www.aadallas.org/wp-content/uploads/2023/08/CORNERSTONE-33RD-ANNIVERSARY-JPG-FLYER.jpg
END:VEVENT
BEGIN:VEVENT
DTSTART;TZID=America/Chicago:20230827T110000
DTEND;TZID=America/Chicago:20230827T130000
DTSTAMP:20260419T202816
CREATED:20230824T172720Z
LAST-MODIFIED:20230824T173045Z
UID:39304-1693134000-1693141200@www.aadallas.org
SUMMARY:Town North 69yr Anniversary
DESCRIPTION:
URL:https://www.aadallas.org/event/town-north-69yr-anniversary/
LOCATION:Town North Group\, 12895 Josey Lane #213\, Farmers Branch\, TX\, 75234\, United States
CATEGORIES:Group Anniversary
ATTACH;FMTTYPE=image/jpeg:https://www.aadallas.org/wp-content/uploads/2023/08/Untitled-002.jpg
END:VEVENT
BEGIN:VEVENT
DTSTART;TZID=America/Chicago:20230708T160000
DTEND;TZID=America/Chicago:20230708T200000
DTSTAMP:20260419T202816
CREATED:20230707T200034Z
LAST-MODIFIED:20230707T200034Z
UID:39138-1688832000-1688846400@www.aadallas.org
SUMMARY:Aquarius Group 46th Anniversary
DESCRIPTION:
URL:https://www.aadallas.org/event/aquarius-group-46th-anniversary/
LOCATION:Aquarius Group\, 13425 Webb Chapel Rd\, Farmer Branch\, TX\, 75234\, United States
CATEGORIES:Group Anniversary
ATTACH;FMTTYPE=image/jpeg:https://www.aadallas.org/wp-content/uploads/2014/06/20230708_46thAquariusAnnvFlyer-page-001.jpg
END:VEVENT
BEGIN:VEVENT
DTSTART;VALUE=DATE:20230603
DTEND;VALUE=DATE:20230605
DTSTAMP:20260419T202816
CREATED:20230413T204635Z
LAST-MODIFIED:20230413T204714Z
UID:38935-1685793600-1685879999@www.aadallas.org
SUMMARY:Grand Prairie Group - 39th Anniversary!
DESCRIPTION:
URL:https://www.aadallas.org/event/grand-prairie-group-39th-anniversary/
LOCATION:Grand Prairie Group\, 921 W. Pioneer Pkwy Suite "0"\, Grand Prairie\, TX\, 75051\, United States
CATEGORIES:Group Anniversary
ATTACH;FMTTYPE=image/jpeg:https://www.aadallas.org/wp-content/uploads/2023/04/Polish_20230410_084353654.jpg
END:VEVENT
BEGIN:VEVENT
DTSTART;TZID=America/Chicago:20230520T120000
DTEND;TZID=America/Chicago:20230520T210000
DTSTAMP:20260419T202816
CREATED:20230414T152916Z
LAST-MODIFIED:20230414T152936Z
UID:38939-1684584000-1684616400@www.aadallas.org
SUMMARY:Wylie Group 31st Anniversary!
DESCRIPTION:Click here to Download/Print PDF
URL:https://www.aadallas.org/event/wylie-group-31st-anniversary/
LOCATION:Wylie Group\, 3990 Lakeway Dr\, St. Paul\, TX\, 75098\, United States
CATEGORIES:Group Anniversary
ATTACH;FMTTYPE=image/jpeg:https://www.aadallas.org/wp-content/uploads/2023/04/Wylie-Group-31st-Anniversary-page-001.jpg
END:VEVENT
BEGIN:VEVENT
DTSTART;TZID=America/Chicago:20230429T183000
DTEND;TZID=America/Chicago:20230429T210000
DTSTAMP:20260419T202816
CREATED:20230327T173157Z
LAST-MODIFIED:20230327T173157Z
UID:38898-1682793000-1682802000@www.aadallas.org
SUMMARY:Lake Highlands 42nd Anniversary
DESCRIPTION:Click here to print/download flyer
URL:https://www.aadallas.org/event/lake-highlands-42nd-anniversary/
LOCATION:Lake Highlands Group\, 10611 Garland Rd\, Suite 217\, Dallas\, TX\, 75218\, United States
CATEGORIES:Group Anniversary
ATTACH;FMTTYPE=image/jpeg:https://www.aadallas.org/wp-content/uploads/2023/03/Lake-Highlands-42nd-Anniversary-page-001.jpg
END:VEVENT
BEGIN:VEVENT
DTSTART;TZID=America/Chicago:20210417T110000
DTEND;TZID=America/Chicago:20210417T200000
DTSTAMP:20260419T202816
CREATED:20210323T190803Z
LAST-MODIFIED:20210323T191012Z
UID:36870-1618657200-1618689600@www.aadallas.org
SUMMARY:Town South Lancaster Anniversary
DESCRIPTION:Gratitude turns what we have into enough. Y’all come! \ntown south lancaster anniversary april 17 flyer
URL:https://www.aadallas.org/event/town-south-lancaster-anniversary/
LOCATION:TX
CATEGORIES:Group Anniversary
END:VEVENT
BEGIN:VEVENT
DTSTART;TZID=America/Chicago:20190414T113000
DTEND;TZID=America/Chicago:20190414T140000
DTSTAMP:20260419T202816
CREATED:20190214T195518Z
LAST-MODIFIED:20190412T153300Z
UID:33253-1555241400-1555250400@www.aadallas.org
SUMMARY:CLEAN AIR NORTH ANNIVERSARY - 27 Years!
DESCRIPTION:Bring a friend and join us to celebrate.\nClean Air North Group will supply meat .\nBring a side dish or desert for food and fellowship\,\nKids are welcome!\n16541 Addison Rd\nAddison\, TX 75001\nSunday April 14th\, 2019\n11:30 A.M. Potluck\n12:30 P.M. History \n1:00 P.M. Speaker\nClaudia F. Georgetown Group \nDownload the flyer here: \ncan2019a
URL:https://www.aadallas.org/event/clean-air-north-anniversary-27-years/
LOCATION:Clean Air North\, 16517 Addison Rd #108\, Addison\, TX\, 75001\, United States
CATEGORIES:Group Anniversary
END:VEVENT
BEGIN:VEVENT
DTSTART;TZID=America/Chicago:20190330T173000
DTEND;TZID=America/Chicago:20190330T200000
DTSTAMP:20260419T202816
CREATED:20190117T234807Z
LAST-MODIFIED:20190326T143604Z
UID:33146-1553967000-1553976000@www.aadallas.org
SUMMARY:Chicago Group 16th Anniversary Meeting
DESCRIPTION:Chicago Group\n16th Anniversary Meeting\nSaturday\, March 30\, 2019\nEdith P. from Omaha\, NE\nWhen:\n6:00 PM    Potluck Dinner\n7:00 PM    Speaker\n\nWhere:\nNorthway Christian Church\n7202 West Northwest Hwy.\nDallas\, Texas 75225\n\nThe church will be open at 5:30 for the arrival of Potluck dishes.\n  \nDownload the flyer here: \nChicago Group 2019 Anniversary Meeting Flyer
URL:https://www.aadallas.org/event/chicago-group-16th-anniversary-meeting/
LOCATION:Chicago Group\, 9027 Midway Road\, Dallas\, TX\, 75209\, United States
CATEGORIES:Group Anniversary
END:VEVENT
BEGIN:VEVENT
DTSTART;TZID=America/Chicago:20190316T130000
DTEND;TZID=America/Chicago:20190316T203000
DTSTAMP:20260419T202816
CREATED:20190226T182658Z
LAST-MODIFIED:20190226T182935Z
UID:33296-1552741200-1552768200@www.aadallas.org
SUMMARY:Ray Of Hope Anniversary 2019
DESCRIPTION:Ray Of Hope 38th Anniversary Celebration will be held on Saturday March 16th at 715 South Seven Points Drive Suite D Seven Points\, TX 75143. \n  \nDownload flyer here: \nRay of Hope 03162018 Anniversary Flyer Ray of Hope History[1177]
URL:https://www.aadallas.org/event/ray-of-hope-anniversary-2019/
LOCATION:Ray of Hope Group\, 715 South Seven Points Drive Suite D\, Seven Points\,\, TX\, 75143\, United States
CATEGORIES:Group Anniversary
END:VEVENT
BEGIN:VEVENT
DTSTART;TZID=America/Chicago:20190309T083000
DTEND;TZID=America/Chicago:20190310T143000
DTSTAMP:20260419T202816
CREATED:20190206T160559Z
LAST-MODIFIED:20190215T173541Z
UID:32001-1552120200-1552228200@www.aadallas.org
SUMMARY:Bruton Terrace 51st Anniversary!
DESCRIPTION:Saturday March 9\n8 PM – Kickoff – Guest Speaker\nDavid T. from The Glasshouse Group\nFollowed by cake \nSunday March 10\n9 AM – Coffee / Donuts\n10 AM – Group History\n10:30 – Al-Anon Guest Speaker\n12 Noon – AA Guest Speaker\nTerri O. from 1641 Group\n1 PM – Lunch \n  \nDownload the flyer here: \nBT 51Anniversary
URL:https://www.aadallas.org/event/bruton-terrace-2019/
LOCATION:Bruton Terrace\, 2414 E Hwy 80 Suite 160\, Mesquite\, TX\, 75149\, United States
CATEGORIES:Group Anniversary,Group Event
END:VEVENT
BEGIN:VEVENT
DTSTART;TZID=America/Chicago:20190216T120000
DTEND;TZID=America/Chicago:20190216T150000
DTSTAMP:20260419T202816
CREATED:20190114T212825Z
LAST-MODIFIED:20190114T214227Z
UID:33071-1550318400-1550329200@www.aadallas.org
SUMMARY:Duncanville 43rd Anniversary
DESCRIPTION:223 B. west camp wisdom RD. \nDallas\, TX 75116 \nIt’s A Celebration!\nSaturday\, February 16th \n12PM-3PM \n  \nAll Star Lineup:\nEmcee: John S.\nAA Speaker: Phillip W.\nAlanon Speaker: Irene\nHistory of Duncanville: Gill A.\n  \nPotluck:\nBrisket and chicken will be provided\nPlease bring a side dish or dessert\nDownload the flyer here: \nDuncanville 43rd Anniversary
URL:https://www.aadallas.org/event/duncanville-43rd-anniversary/
LOCATION:Duncanville Group\, 223 West Camp Wisdom Rd Suite B\, Duncanville\, TX\, 75116\, United States
CATEGORIES:Group Anniversary
END:VEVENT
BEGIN:VEVENT
DTSTART;TZID=America/Chicago:20190126T170000
DTEND;TZID=America/Chicago:20190126T213000
DTSTAMP:20260419T202816
CREATED:20190104T220036Z
LAST-MODIFIED:20190104T223910Z
UID:16057-1548522000-1548538200@www.aadallas.org
SUMMARY:Big Book 25th Anniversary Celebration
DESCRIPTION:The Big Book Group will be celebrating 25 years\nDate: January 26\, 2019\nTime: 5:30 pm to 9:30 pm\nJoin us on this special\nevening of recovery!\nGrace Bible Church\n11306 Inwood Road\nDallas TX 75229\n\n\n5:00pm:  Church opens\n\n\n5:30pm:  Pot Luck Dinner\n\n\n7:00pm:  Al-Anon Speaker\, Teri B.\, Addison AFG\n\n\n8:20pm:  AA Speaker\, Stuart R.\, Simply AA Irving\n\n\n*Please bring food in disposable containers\nCongratulations Big Book Group!
URL:https://www.aadallas.org/event/big-book-24th-anniversary-celebration/
LOCATION:Big Book Group\, 11306 Inwood Road\, Grace Bible Church\, Dallas\, TX\, 75229\, United States
CATEGORIES:Group Anniversary
END:VEVENT
BEGIN:VEVENT
DTSTART;TZID=America/Chicago:20190120T110000
DTEND;TZID=America/Chicago:20190120T130000
DTSTAMP:20260419T202816
CREATED:20181213T164443Z
LAST-MODIFIED:20181213T173318Z
UID:32975-1547982000-1547989200@www.aadallas.org
SUMMARY:44th Annual Freedom Group Anniversary Celebration
DESCRIPTION:When: Sunday January 20th 2019\n\nTime: 11AM\n\nLocation: 2232 N. Town East Blvd. Mesquite\, TX 75150\n\nBring your favorite side dish or desert\, the main course will be provided.
URL:https://www.aadallas.org/event/44th-annual-freedom-group-anniversary-celebration/
LOCATION:Freedom Group\, 2232 N Town East Blvd\, Mesquite\, TX\, 75150\, United States
CATEGORIES:Group Anniversary
END:VEVENT
BEGIN:VEVENT
DTSTART;TZID=America/Chicago:20190119T173000
DTEND;TZID=America/Chicago:20190119T203000
DTSTAMP:20260419T202816
CREATED:20181206T220656Z
LAST-MODIFIED:20181206T223204Z
UID:32917-1547919000-1547929800@www.aadallas.org
SUMMARY:Allen Group’s Anniversary
DESCRIPTION:Please join us for fun\, food and fellowship! \nCelebrating 28 Years of Carrying the Message. \nFellowship 5:30 pm \nPotluck 6:00 pm \nGroup History 7:00 pm \nSpeaker 7:15 pm – Gary K.\, Sulphur Springs \n601 S Greenville \nAllen TX \n1st United Methodist Church \n*** in the Fellowship Hall *** \n(this is not the same building the Group meets) \n  \nDownload the flyer here: \nAllen Group Anniversary 2018 \n  \n 
URL:https://www.aadallas.org/event/allen-groups-anniversary/
LOCATION:Allen Group\, 601 S Greenville Ave\, Allen\, TX\, 75002\, United States
CATEGORIES:Group Anniversary
END:VEVENT
END:VCALENDAR