BEGIN:VCALENDAR
VERSION:2.0
PRODID:-//Dallas AA Central Office - ECPv6.15.4//NONSGML v1.0//EN
CALSCALE:GREGORIAN
METHOD:PUBLISH
X-WR-CALNAME:Dallas AA Central Office
X-ORIGINAL-URL:https://www.aadallas.org
X-WR-CALDESC:Events for Dallas AA Central Office
REFRESH-INTERVAL;VALUE=DURATION:PT1H
X-Robots-Tag:noindex
X-PUBLISHED-TTL:PT1H
BEGIN:VTIMEZONE
TZID:America/Chicago
BEGIN:DAYLIGHT
TZOFFSETFROM:-0600
TZOFFSETTO:-0500
TZNAME:CDT
DTSTART:20260308T080000
END:DAYLIGHT
BEGIN:STANDARD
TZOFFSETFROM:-0500
TZOFFSETTO:-0600
TZNAME:CST
DTSTART:20261101T070000
END:STANDARD
END:VTIMEZONE
BEGIN:VEVENT
DTSTART;VALUE=DATE:20260501
DTEND;VALUE=DATE:20260505
DTSTAMP:20260424T170952
CREATED:20260122T213529Z
LAST-MODIFIED:20260122T213529Z
UID:46221-1777636800-1777895999@www.aadallas.org
SUMMARY:Serenity by the Lake 2026 Retreat
DESCRIPTION:click here to print/download
URL:https://www.aadallas.org/event/serenity-by-the-lake-2026-retreat/
LOCATION:TX
ATTACH;FMTTYPE=image/jpeg:https://www.aadallas.org/wp-content/uploads/2026/01/serenity-2026-Copy_page-0001.jpg
END:VEVENT
BEGIN:VEVENT
DTSTART;TZID=America/Chicago:20260501T160000
DTEND;TZID=America/Chicago:20260503T130000
DTSTAMP:20260424T170952
CREATED:20251208T193011Z
LAST-MODIFIED:20251208T193011Z
UID:46117-1777651200-1777813200@www.aadallas.org
SUMMARY:GirlaPaloozAA Dallas
DESCRIPTION:
URL:https://www.aadallas.org/event/girlapaloozaa-dallas-4/
LOCATION:Four Points\, 1560 Point West Blvd\, Coppell\, TX\, 75019\, United States
ATTACH;FMTTYPE=image/jpeg:https://www.aadallas.org/wp-content/uploads/2025/12/GirlapaloozAA-Flyer-2026.jpg
END:VEVENT
END:VCALENDAR