BEGIN:VCALENDAR
VERSION:2.0
PRODID:-//Dallas AA Central Office - ECPv6.15.4//NONSGML v1.0//EN
CALSCALE:GREGORIAN
METHOD:PUBLISH
X-WR-CALNAME:Dallas AA Central Office
X-ORIGINAL-URL:https://www.aadallas.org
X-WR-CALDESC:Events for Dallas AA Central Office
REFRESH-INTERVAL;VALUE=DURATION:PT1H
X-Robots-Tag:noindex
X-PUBLISHED-TTL:PT1H
BEGIN:VTIMEZONE
TZID:America/Chicago
BEGIN:DAYLIGHT
TZOFFSETFROM:-0600
TZOFFSETTO:-0500
TZNAME:CDT
DTSTART:20260308T080000
END:DAYLIGHT
BEGIN:STANDARD
TZOFFSETFROM:-0500
TZOFFSETTO:-0600
TZNAME:CST
DTSTART:20261101T070000
END:STANDARD
END:VTIMEZONE
BEGIN:VEVENT
DTSTART;TZID=America/Chicago:20260131T113000
DTEND;TZID=America/Chicago:20260131T153000
DTSTAMP:20260419T102203
CREATED:20260106T163258Z
LAST-MODIFIED:20260121T200540Z
UID:46149-1769859000-1769873400@www.aadallas.org
SUMMARY:Duncanville 50th Anniversary!
DESCRIPTION:click here to print/download
URL:https://www.aadallas.org/event/duncanville-50th-anniversary/
LOCATION:Duncanville Group\, 223 West Camp Wisdom Rd Suite B\, Duncanville\, TX\, 75116\, United States
ATTACH;FMTTYPE=image/jpeg:https://www.aadallas.org/wp-content/uploads/2026/01/duncanville50thjan31_page-0001.jpg
END:VEVENT
BEGIN:VEVENT
DTSTART;TZID=America/Chicago:20260131T130000
DTEND;TZID=America/Chicago:20260131T150000
DTSTAMP:20260419T102203
CREATED:20251119T172051Z
LAST-MODIFIED:20251119T172051Z
UID:46053-1769864400-1769871600@www.aadallas.org
SUMMARY:Rowlett Group Grapevine Writing Workshop
DESCRIPTION:click here to print/download
URL:https://www.aadallas.org/event/rowlett-group-grapevine-writing-workshop/
LOCATION:Rowlett Group\, 362 Oak Trail #162\, Garland\, TX\, 75043\, United States
ATTACH;FMTTYPE=image/jpeg:https://www.aadallas.org/wp-content/uploads/2025/11/Rowlett-Group-GV-Writing-Workshop.jpg
END:VEVENT
BEGIN:VEVENT
DTSTART;TZID=America/Chicago:20260131T170000
DTEND;TZID=America/Chicago:20260131T210000
DTSTAMP:20260419T102203
CREATED:20260112T221104Z
LAST-MODIFIED:20260122T173049Z
UID:46168-1769878800-1769893200@www.aadallas.org
SUMMARY:Primary Purpose Group 38th Anniversary
DESCRIPTION:click here to print/download
URL:https://www.aadallas.org/event/primary-purpose-group-38th-anniversary/
LOCATION:Primary Purpose\, 11001 Midway Rd\, Dallas\, TX\, 75229\, United States
ATTACH;FMTTYPE=image/jpeg:https://www.aadallas.org/wp-content/uploads/2026/01/PPG-Flyer-38th-anniv-flyer-1_page-0001.jpg
END:VEVENT
BEGIN:VEVENT
DTSTART;TZID=America/Chicago:20260201T100000
DTEND;TZID=America/Chicago:20260201T160000
DTSTAMP:20260419T102203
CREATED:20260126T165141Z
LAST-MODIFIED:20260126T165200Z
UID:46239-1769940000-1769961600@www.aadallas.org
SUMMARY:Freedom Group's 51st Anniversary
DESCRIPTION:Click Here to Print/Download Flyer
URL:https://www.aadallas.org/event/freedom-groups-51st-anniversary/
LOCATION:Freedom Group\, 2232 N Town East Blvd\, Mesquite\, TX\, 75150\, United States
ATTACH;FMTTYPE=image/jpeg:https://www.aadallas.org/wp-content/uploads/2026/01/Freedom-Group-Anniversary-Flyer-2026-page-001.jpg
END:VEVENT
END:VCALENDAR