BEGIN:VCALENDAR
VERSION:2.0
PRODID:-//Dallas AA Central Office - ECPv6.15.4//NONSGML v1.0//EN
CALSCALE:GREGORIAN
METHOD:PUBLISH
X-WR-CALNAME:Dallas AA Central Office
X-ORIGINAL-URL:https://www.aadallas.org
X-WR-CALDESC:Events for Dallas AA Central Office
REFRESH-INTERVAL;VALUE=DURATION:PT1H
X-Robots-Tag:noindex
X-PUBLISHED-TTL:PT1H
BEGIN:VTIMEZONE
TZID:America/Chicago
BEGIN:DAYLIGHT
TZOFFSETFROM:-0600
TZOFFSETTO:-0500
TZNAME:CDT
DTSTART:20250309T080000
END:DAYLIGHT
BEGIN:STANDARD
TZOFFSETFROM:-0500
TZOFFSETTO:-0600
TZNAME:CST
DTSTART:20251102T070000
END:STANDARD
END:VTIMEZONE
BEGIN:VEVENT
DTSTART;VALUE=DATE:20250720
DTEND;VALUE=DATE:20250727
DTSTAMP:20260425T054348
CREATED:20250508T215502Z
LAST-MODIFIED:20250508T215502Z
UID:45517-1753012800-1753531199@www.aadallas.org
SUMMARY:40th Annual Crested Butte Mountain Conference
DESCRIPTION:click here to print/download
URL:https://www.aadallas.org/event/40th-annual-crested-butte-mountain-conference/
LOCATION:TX
ATTACH;FMTTYPE=image/jpeg:https://www.aadallas.org/wp-content/uploads/2025/05/CBMC-2025-Info-Flyer-2-Pager-Color-v3-1.jpg
END:VEVENT
END:VCALENDAR