BEGIN:VCALENDAR
VERSION:2.0
PRODID:-//Dallas AA Central Office - ECPv6.15.4//NONSGML v1.0//EN
CALSCALE:GREGORIAN
METHOD:PUBLISH
X-ORIGINAL-URL:https://www.aadallas.org
X-WR-CALDESC:Events for Dallas AA Central Office
REFRESH-INTERVAL;VALUE=DURATION:PT1H
X-Robots-Tag:noindex
X-PUBLISHED-TTL:PT1H
BEGIN:VTIMEZONE
TZID:America/Chicago
BEGIN:DAYLIGHT
TZOFFSETFROM:-0600
TZOFFSETTO:-0500
TZNAME:CDT
DTSTART:20250309T080000
END:DAYLIGHT
BEGIN:STANDARD
TZOFFSETFROM:-0500
TZOFFSETTO:-0600
TZNAME:CST
DTSTART:20251102T070000
END:STANDARD
END:VTIMEZONE
BEGIN:VEVENT
DTSTART;TZID=America/Chicago:20250222T120000
DTEND;TZID=America/Chicago:20250222T140000
DTSTAMP:20260419T100129
CREATED:20250210T224640Z
LAST-MODIFIED:20250210T224640Z
UID:45292-1740225600-1740232800@www.aadallas.org
SUMMARY:Sponsorship Workshop
DESCRIPTION:Click Here to Print/download flyer
URL:https://www.aadallas.org/event/sponsorship-workshop-3/
LOCATION:Duncanville Group\, 223 West Camp Wisdom Rd Suite B\, Duncanville\, TX\, 75116\, United States
ATTACH;FMTTYPE=image/jpeg:https://www.aadallas.org/wp-content/uploads/2025/02/Sponsorship-Workshop_250202_094408-page-001-e1739227566232.jpg
END:VEVENT
BEGIN:VEVENT
DTSTART;VALUE=DATE:20250222
DTEND;VALUE=DATE:20250224
DTSTAMP:20260419T100129
CREATED:20250214T173033Z
LAST-MODIFIED:20250214T173033Z
UID:45303-1740225600-1740311999@www.aadallas.org
SUMMARY:Waxahachie 66th Founders Day
DESCRIPTION:click here to print/download
URL:https://www.aadallas.org/event/waxahachie-66th-founders-day/
LOCATION:Waxahachie AA\, 301 John Arden\, Waxahachie\, TX\, 75165\, United States
ATTACH;FMTTYPE=image/jpeg:https://www.aadallas.org/wp-content/uploads/2025/02/wax66founder-1-scaled.jpg
END:VEVENT
END:VCALENDAR