BEGIN:VCALENDAR
VERSION:2.0
PRODID:-//Dallas AA Central Office - ECPv6.15.4//NONSGML v1.0//EN
CALSCALE:GREGORIAN
METHOD:PUBLISH
X-ORIGINAL-URL:https://www.aadallas.org
X-WR-CALDESC:Events for Dallas AA Central Office
REFRESH-INTERVAL;VALUE=DURATION:PT1H
X-Robots-Tag:noindex
X-PUBLISHED-TTL:PT1H
BEGIN:VTIMEZONE
TZID:America/Chicago
BEGIN:DAYLIGHT
TZOFFSETFROM:-0600
TZOFFSETTO:-0500
TZNAME:CDT
DTSTART:20250309T080000
END:DAYLIGHT
BEGIN:STANDARD
TZOFFSETFROM:-0500
TZOFFSETTO:-0600
TZNAME:CST
DTSTART:20251102T070000
END:STANDARD
END:VTIMEZONE
BEGIN:VEVENT
DTSTART;VALUE=DATE:20250110
DTEND;VALUE=DATE:20250114
DTSTAMP:20260421T041219
CREATED:20241216T165526Z
LAST-MODIFIED:20241216T165526Z
UID:45163-1736510400-1736769599@www.aadallas.org
SUMMARY:Tyler AA - 78th Anniversary
DESCRIPTION:Click Here to Print/download flyer
URL:https://www.aadallas.org/event/tyler-aa-78th-anniversary/
LOCATION:HIlton Garden Inn Tyler\, 220 E. Grande\, Tyler\, TX\, 75703\, United States
ATTACH;FMTTYPE=image/jpeg:https://www.aadallas.org/wp-content/uploads/2024/12/78th-Tyler-AA-Anniversary-e1734368091467.jpg
END:VEVENT
BEGIN:VEVENT
DTSTART;TZID=America/Chicago:20250111T173000
DTEND;TZID=America/Chicago:20250111T203000
DTSTAMP:20260421T041219
CREATED:20241219T170905Z
LAST-MODIFIED:20241219T170905Z
UID:45183-1736616600-1736627400@www.aadallas.org
SUMMARY:CityWide January 11th 2025
DESCRIPTION:click here to print/download
URL:https://www.aadallas.org/event/citywide-january-11th-2025/
LOCATION:Lover’s Lane United Methodist Church\, 9200 Inwood Road\, Dallas\, TX\, 75220\, United States
ATTACH;FMTTYPE=image/jpeg:https://www.aadallas.org/wp-content/uploads/2024/12/Flyer-7-1.jpg
END:VEVENT
END:VCALENDAR