BEGIN:VCALENDAR
VERSION:2.0
PRODID:-//Dallas AA Central Office - ECPv6.15.4//NONSGML v1.0//EN
CALSCALE:GREGORIAN
METHOD:PUBLISH
X-ORIGINAL-URL:https://www.aadallas.org
X-WR-CALDESC:Events for Dallas AA Central Office
REFRESH-INTERVAL;VALUE=DURATION:PT1H
X-Robots-Tag:noindex
X-PUBLISHED-TTL:PT1H
BEGIN:VTIMEZONE
TZID:America/Chicago
BEGIN:DAYLIGHT
TZOFFSETFROM:-0600
TZOFFSETTO:-0500
TZNAME:CDT
DTSTART:20200308T080000
END:DAYLIGHT
BEGIN:STANDARD
TZOFFSETFROM:-0500
TZOFFSETTO:-0600
TZNAME:CST
DTSTART:20201101T070000
END:STANDARD
END:VTIMEZONE
BEGIN:VEVENT
DTSTART;TZID=America/Chicago:20200126T110000
DTEND;TZID=America/Chicago:20200126T160000
DTSTAMP:20260425T132910
CREATED:20200109T223536Z
LAST-MODIFIED:20200109T223536Z
UID:34493-1580036400-1580054400@www.aadallas.org
SUMMARY:Freedom Group 45th Anniversary Celebration
DESCRIPTION:The Freedom Group will be celebrating 45 years on Sunday January 26.  Please see the linked flyer for more details: \nFreedom Group 45th Anniversary \n 
URL:https://www.aadallas.org/event/freedom-group-45th-anniversary-celebration/
LOCATION:Freedom Group\, 2232 N Town East Blvd\, Mesquite\, TX\, 75150\, United States
END:VEVENT
BEGIN:VEVENT
DTSTART;TZID=America/Chicago:20200126T150000
DTEND;TZID=America/Chicago:20200126T163000
DTSTAMP:20260425T132910
CREATED:20200120T160820Z
LAST-MODIFIED:20200120T160820Z
UID:34532-1580050800-1580056200@www.aadallas.org
SUMMARY:2020 Grapevine Planning Meeting
DESCRIPTION:There will be a 2020 planning meeting for Grapevine on Sunday January 26th from 3:00-4:30 pm at the Carrollton Group.
URL:https://www.aadallas.org/event/2020-grapevine-planning-meeting/
LOCATION:Carrollton Group\, 1039 N Interstate 35E\, Carrollton\, TX\, 75006\, United States
END:VEVENT
END:VCALENDAR